BEGIN:VCALENDAR
VERSION:2.0
PRODID:-//jEvents 2.0 for Joomla//EN
CALSCALE:GREGORIAN
METHOD:PUBLISH
BEGIN:VEVENT
UID:9c2f11e6bc6d75262bdf4b71c8213264
CATEGORIES:Field and Summer Schools
CREATED:20220126T092404
SUMMARY:GRISO Summer School 2022 in Nuuk, Greenland
LOCATION:Nuuk\, Greenland
DESCRIPTION:The Greenland Ice Sheet Ocean Science (GRISO) network will host the first G
 RISO Summer School in Nuuk, Greenland during July 11-23, 2022. The topic is
  Impacts of glacier retreat on Greenland coastal margins.\n\n The summer sc
 hool will emphasize both Greenland science and building collaboration, comm
 unication, and complex problem solving skills. Activities will take place i
 n the Center for Education in the Natural Sciences, at the Greenland Instit
 ute of Natural Resources. Participants will learn about the state of scienc
 e and techniques in glaciology, ice-ocean interaction, fjord oceanography, 
 coastal ecosystems and community response to coastal change, and they will 
 develop skills in cross-discipline collaboration and communication facilita
 ted by experts from Knowinnovation (https://knowinnovation.com/).There will
  be opportunities to participate in boat trips and hiking. More broadly, th
 e summer school aims to build a strong and healthy early career science net
 work.\nThe target audience for the summer school is advanced PhD students a
 nd postdocs, and we are able to accommodate approximately 12 students. We e
 ncourage applications from Greenland-based students and underrepresented mi
 nority groups.\n\n Applications are now open and will close on 11 February 
 2022. \n For further information on the summer school (e.g. on costs, COVID
 -19, etc) and for how to apply, visit <a href="https://griso.ucsd.edu/griso
 -summer-school-2022/" target="_blank" rel="noopener">https://griso.ucsd.edu
 /griso-summer-school-2022/</a>. \n\n Please contact This email address is b
 eing protected from spambots. You need JavaScript enabled to view it.
				d
 ocument.getElementById('cloak233cef09192509574f5a7501fc225730').innerHTML =
  '';
				var prefix = '&#109;a' + 'i&#108;' + '&#116;o';
				var path = 'hr
 ' + 'ef' + '=';
				var addy233cef09192509574f5a7501fc225730 = 'gr&#105;s&#
 111;gr&#101;&#101;nl&#97;nd' + '&#64;';
				addy233cef09192509574f5a7501fc2
 25730 = addy233cef09192509574f5a7501fc225730 + 'gm&#97;&#105;l' + '&#46;' +
  'c&#111;m';
				var addy_text233cef09192509574f5a7501fc225730 = 'gr&#105;s
 &#111;gr&#101;&#101;nl&#97;nd[&#97;t]gm&#97;&#105;l.c&#111;m';document.getE
 lementById('cloak233cef09192509574f5a7501fc225730').innerHTML += '<a ' + pa
 th + '\'' + prefix + ':' + addy233cef09192509574f5a7501fc225730 + '\'>'+add
 y_text233cef09192509574f5a7501fc225730+'';
		 with any questions, and we ho
 pe to see some of you in Nuuk!\n\n GRISO steering committee (https://griso.
 ucsd.edu/)\n\n\n
X-ALT-DESC;FMTTYPE=text/html:<p style="text-align: justify;">The <strong>Greenland Ice Sheet Ocean Scien
 ce (GRISO)</strong> network will host the first <strong>GRISO Summer School
  in Nuuk, Greenland during July 11-23, 2022</strong>. The topic is Impacts 
 of glacier retreat on Greenland coastal margins.<br /><br /> The summer sch
 ool will emphasize both Greenland science and building collaboration, commu
 nication, and complex problem solving skills. Activities will take place in
  the Center for Education in the Natural Sciences, at the Greenland Institu
 te of Natural Resources. Participants will learn about the state of science
  and techniques in glaciology, ice-ocean interaction, fjord oceanography, c
 oastal ecosystems and community response to coastal change, and they will d
 evelop skills in cross-discipline collaboration and communication facilitat
 ed by experts from <a href="https://knowinnovation.com/" target="_blank" re
 l="noopener">Knowinnovation</a>.There will be opportunities to participate 
 in boat trips and hiking. More broadly, the summer school aims to build a s
 trong and healthy early career science network.</p><p style="text-align: ju
 stify;">The target audience for the summer school is advanced PhD students 
 and postdocs, and we are able to accommodate approximately 12 students. We 
 encourage applications from Greenland-based students and underrepresented m
 inority groups.<br /><br /> <strong>Applications are now open and will clos
 e on 11 February 2022.</strong> <br /> For further information on the summe
 r school (e.g. on costs, COVID-19, etc) and for how to apply, visit <a href
 ="https://griso.ucsd.edu/griso-summer-school-2022/" target="_blank" rel="no
 opener">https://griso.ucsd.edu/griso-summer-school-2022/</a>. <br /><br /> 
 Please contact <span id="cloak233cef09192509574f5a7501fc225730">This email 
 address is being protected from spambots. You need JavaScript enabled to vi
 ew it.</span><script type='text/javascript'>
				document.getElementById('c
 loak233cef09192509574f5a7501fc225730').innerHTML = '';
				var prefix = '&#
 109;a' + 'i&#108;' + '&#116;o';
				var path = 'hr' + 'ef' + '=';
				var a
 ddy233cef09192509574f5a7501fc225730 = 'gr&#105;s&#111;gr&#101;&#101;nl&#97;
 nd' + '&#64;';
				addy233cef09192509574f5a7501fc225730 = addy233cef0919250
 9574f5a7501fc225730 + 'gm&#97;&#105;l' + '&#46;' + 'c&#111;m';
				var addy
 _text233cef09192509574f5a7501fc225730 = 'gr&#105;s&#111;gr&#101;&#101;nl&#9
 7;nd[&#97;t]gm&#97;&#105;l.c&#111;m';document.getElementById('cloak233cef09
 192509574f5a7501fc225730').innerHTML += '<a ' + path + '\'' + prefix + ':' 
 + addy233cef09192509574f5a7501fc225730 + '\'>'+addy_text233cef09192509574f5
 a7501fc225730+'<\/a>';
		</script> with any questions, and we hope to see s
 ome of you in Nuuk!<br /><a href="https://griso.ucsd.edu/" target="_blank" 
 rel="noopener"><br /> GRISO steering committee</a><br /><br /></p>
DTSTAMP:20260425T214638Z
DTSTART;TZID=UTC;VALUE=DATE:20220711
DTEND;TZID=UTC;VALUE=DATE:20220724
SEQUENCE:0
TRANSP:OPAQUE
END:VEVENT
END:VCALENDAR