BEGIN:VCALENDAR
VERSION:2.0
PRODID:-//jEvents 2.0 for Joomla//EN
CALSCALE:GREGORIAN
METHOD:PUBLISH
BEGIN:VEVENT
UID:cf336df6a4fdde9d87285339df1babb4
CATEGORIES:Polar Conferences, Meetings and Events
CREATED:20220119T144934
SUMMARY:British Society for Geomorphology Annual Meeting
LOCATION:Northumbria University\, UK
DESCRIPTION:I am delighted to announce that the British Society for Geomorphology's (ht
 tps://www.geomorphology.org.uk/) Annual Meeting will be hosted by the <a hr
 ef="https://www.northumbria.ac.uk/about-us/academic-departments/geography-a
 nd-environmental-sciences/" target="_blank" rel="noopener" data-saferedirec
 turl="https://www.google.com/url?q=https://www.northumbria.ac.uk/about-us/a
 cademic-departments/geography-and-environmental-sciences/&amp;source=gmail&
 amp;ust=1642670980402000&amp;usg=AOvVaw0QH5NW6rEWVOeF4Qp3WThQ">Department o
 f Geography and Environmental Sciences</a> at Northumbria University in New
 castle upon Tyne (https://newcastlegateshead.com/), UK, from 4th-7th Septem
 ber 2022.\n\nThe main conference programme will run from Monday 5th to Wedn
 esday 7th September inclusive. An optional, pre-conference fieldtrip to key
 , geomorphologically interesting sites in Northumberland will take place on
  Sunday 4th. The formal conference dinner on Tuesday 6th will be hosted at 
 the nearby Wylam Brewery.\n\nFor now, this is just a date for your diaries.
  The official call-for-abstracts and registration will open in the Spring. 
 We will welcome abstracts from any theme of geomorphology, including glacia
 l / cryospheric geomorphology, and particularly encourage early career rese
 archers and non-academic geomorphological practitioners to consider attendi
 ng.\n\nAt present, we are progressing with plans to host the conference as 
 an in-person event, with an option to attend remotely. More details to foll
 ow in due course.\n\nIf you have any questions in the interim, please do dr
 op me a line (<a href="mailto:matt.westoby@northumbria.ac.uk" target="_blan
 k"></a>This email address is being protected from spambots. You need JavaSc
 ript enabled to view it.
				document.getElementById('cloakf9a710aeb872e591
 f23fdbd08a59c081').innerHTML = '';
				var prefix = '&#109;a' + 'i&#108;' +
  '&#116;o';
				var path = 'hr' + 'ef' + '=';
				var addyf9a710aeb872e591f
 23fdbd08a59c081 = 'm&#97;tt.w&#101;st&#111;by' + '&#64;';
				addyf9a710aeb
 872e591f23fdbd08a59c081 = addyf9a710aeb872e591f23fdbd08a59c081 + 'n&#111;rt
 h&#117;mbr&#105;&#97;' + '&#46;' + '&#97;c' + '&#46;' + '&#117;k';
				var 
 addy_textf9a710aeb872e591f23fdbd08a59c081 = 'm&#97;tt.w&#101;st&#111;by' + 
 '&#64;' + 'n&#111;rth&#117;mbr&#105;&#97;' + '&#46;' + '&#97;c' + '&#46;' +
  '&#117;k';document.getElementById('cloakf9a710aeb872e591f23fdbd08a59c081')
 .innerHTML += '<a ' + path + '\'' + prefix + ':' + addyf9a710aeb872e591f23f
 dbd08a59c081 + '\'>'+addy_textf9a710aeb872e591f23fdbd08a59c081+'';
		)\n
X-ALT-DESC;FMTTYPE=text/html:<p style="text-align: justify;">I am delighted to announce that the <strong
 ><a href="https://www.geomorphology.org.uk/" target="_blank" rel="noopener"
  data-saferedirecturl="https://www.google.com/url?q=https://www.geomorpholo
 gy.org.uk/&amp;source=gmail&amp;ust=1642670980402000&amp;usg=AOvVaw33rhu-ar
 lVGFI9peD_VcYU">British Society for Geomorphology's</a> Annual Meeting</str
 ong> will be hosted by the <a href="https://www.northumbria.ac.uk/about-us/
 academic-departments/geography-and-environmental-sciences/" target="_blank"
  rel="noopener" data-saferedirecturl="https://www.google.com/url?q=https://
 www.northumbria.ac.uk/about-us/academic-departments/geography-and-environme
 ntal-sciences/&amp;source=gmail&amp;ust=1642670980402000&amp;usg=AOvVaw0QH5
 NW6rEWVOeF4Qp3WThQ">Department of Geography and Environmental Sciences</a>&
 nbsp;at Northumbria University in <a href="https://newcastlegateshead.com/"
  target="_blank" rel="noopener" data-saferedirecturl="https://www.google.co
 m/url?q=https://newcastlegateshead.com/&amp;source=gmail&amp;ust=1642670980
 402000&amp;usg=AOvVaw1HROUM9qjqmUygF5Kn3Vt_">Newcastle upon Tyne</a>, UK, f
 rom <strong>4th-7th September 2022</strong>.<br /><br />The main conference
  programme will run from Monday 5th to Wednesday 7th September inclusive. A
 n optional, pre-conference fieldtrip to key, geomorphologically interesting
  sites in Northumberland will take place on Sunday 4th. The formal conferen
 ce dinner on Tuesday 6th will be hosted at the nearby Wylam Brewery.<br /><
 br />For now, this is just a date for your diaries. The official call-for-a
 bstracts and registration will open in the Spring. We will welcome abstract
 s from any theme of geomorphology, including glacial / cryospheric geomorph
 ology, and particularly encourage&nbsp;early career researchers&nbsp;and&nb
 sp;non-academic geomorphological practitioners to consider attending.<br />
 <br />At present, we are progressing with plans to host the conference as a
 n in-person event, with an option to attend remotely. More details to follo
 w in due course.<br /><br />If you have any questions in the interim, pleas
 e do drop me a line (<a href="mailto:matt.westoby@northumbria.ac.uk" target
 ="_blank"></a><span id="cloakf9a710aeb872e591f23fdbd08a59c081">This email a
 ddress is being protected from spambots. You need JavaScript enabled to vie
 w it.</span><script type='text/javascript'>
				document.getElementById('cl
 oakf9a710aeb872e591f23fdbd08a59c081').innerHTML = '';
				var prefix = '&#1
 09;a' + 'i&#108;' + '&#116;o';
				var path = 'hr' + 'ef' + '=';
				var ad
 dyf9a710aeb872e591f23fdbd08a59c081 = 'm&#97;tt.w&#101;st&#111;by' + '&#64;'
 ;
				addyf9a710aeb872e591f23fdbd08a59c081 = addyf9a710aeb872e591f23fdbd08a
 59c081 + 'n&#111;rth&#117;mbr&#105;&#97;' + '&#46;' + '&#97;c' + '&#46;' + 
 '&#117;k';
				var addy_textf9a710aeb872e591f23fdbd08a59c081 = 'm&#97;tt.w&
 #101;st&#111;by' + '&#64;' + 'n&#111;rth&#117;mbr&#105;&#97;' + '&#46;' + '
 &#97;c' + '&#46;' + '&#117;k';document.getElementById('cloakf9a710aeb872e59
 1f23fdbd08a59c081').innerHTML += '<a ' + path + '\'' + prefix + ':' + addyf
 9a710aeb872e591f23fdbd08a59c081 + '\'>'+addy_textf9a710aeb872e591f23fdbd08a
 59c081+'<\/a>';
		</script>)</p>
DTSTAMP:20260425T214604Z
DTSTART;TZID=UTC;VALUE=DATE:20220904
DTEND;TZID=UTC;VALUE=DATE:20220908
SEQUENCE:0
TRANSP:OPAQUE
END:VEVENT
END:VCALENDAR