BEGIN:VCALENDAR
VERSION:2.0
PRODID:-//jEvents 2.0 for Joomla//EN
CALSCALE:GREGORIAN
METHOD:PUBLISH
BEGIN:VEVENT
UID:a7a697bf926ca1fce17818bd9a137198
CATEGORIES:Polar Conferences, Meetings and Events
CREATED:20170116T152950
SUMMARY:Japan Geosciences Union-AGU Joint Meeting
LOCATION:Chiba\, Japan
DESCRIPTION:Organizers announce a call for abstracts for the 2017 Japan GeosciencesUnio
 n (JpGU) and the American Geophysical Union (AGU) Joint Meeting withthe the
 me, "For a Borderless World of Geoscience." This meeting willconvene 20-25 
 May 2017 in Chiba, Japan.JpGU and AGU will hold the first joint meeting of 
 the two societiescovering all areas of the earth and space sciences with mo
 re than 150sessions to be conducted in English. The meeting is expected to 
 have7,000-9,000 scientists from around the globe. The meeting will coverres
 earch in all areas of space and planetary sciences, atmosphere andhydrosphe
 re sciences, human geosciences, solid earth sciences, andbiogeosciences.Tra
 vel grants will be available for students who wish to travel to thismeeting
 . AGU will be accepting application for students who resideoutside of Japan
 . JpGU will be taking applications for students residingin Japan. Applicati
 ons will be begin being accepted at a later date.Early/discounted abstract 
 submission deadline: 11:59 a.m. Japan StandardTime, 3 February 2017.Final a
 bstract submission deadline: 5:00 p.m. Japan Standard Time, 16February 2017
 .To submit an abstract, go to:http://tinyurl.com/JpGU-AGU-Abstract-Submit.F
 or abstract guidelines, go to: <a href="http://www.jpgu.org/meeting_e2017/s
 ubmission.html" class="">http://www.jpgu.org/meeting_e2017/submission.html<
 /a>.For a list of sessions, go to: http://www.jpgu.org/meeting_e2017/sessio
 n_list/.For more information about this meeting, go to: <a href="http://jpg
 u.org/meeting_e2017/" class="">http://jpgu.org/meeting_e2017/</a>.For quest
 ions, contact:AGU OfficeEmail: This email address is being protected from s
 pambots. You need JavaScript enabled to view it.
				document.getElementByI
 d('cloak753d1edfd52badd74751b9f77267266b').innerHTML = '';
				var prefix =
  '&#109;a' + 'i&#108;' + '&#116;o';
				var path = 'hr' + 'ef' + '=';
				v
 ar addy753d1edfd52badd74751b9f77267266b = 's&#101;rv&#105;c&#101;' + '&#64;
 ';
				addy753d1edfd52badd74751b9f77267266b = addy753d1edfd52badd74751b9f77
 267266b + '&#97;g&#117;' + '&#46;' + '&#111;rg';
				var addy_text753d1edfd
 52badd74751b9f77267266b = 's&#101;rv&#105;c&#101;' + '&#64;' + '&#97;g&#117
 ;' + '&#46;' + '&#111;rg';document.getElementById('cloak753d1edfd52badd7475
 1b9f77267266b').innerHTML += '<a ' + path + '\'' + prefix + ':' + addy753d1
 edfd52badd74751b9f77267266b + '\' class="">'+addy_text753d1edfd52badd74751b
 9f77267266b+'';
		Phone: 202-462-6900Toll Free (North America Only): 800-96
 6-2481Website: http://about.agu.org/contact/JpGU OfficeEmail: This email ad
 dress is being protected from spambots. You need JavaScript enabled to view
  it.
				document.getElementById('cloakdf3f5a27446c563501bf09aa158aa192').i
 nnerHTML = '';
				var prefix = '&#109;a' + 'i&#108;' + '&#116;o';
				var 
 path = 'hr' + 'ef' + '=';
				var addydf3f5a27446c563501bf09aa158aa192 = '&
 #111;ff&#105;c&#101;' + '&#64;';
				addydf3f5a27446c563501bf09aa158aa192 =
  addydf3f5a27446c563501bf09aa158aa192 + 'jpg&#117;' + '&#46;' + '&#111;rg';
 
				var addy_textdf3f5a27446c563501bf09aa158aa192 = '&#111;ff&#105;c&#101;
 ' + '&#64;' + 'jpg&#117;' + '&#46;' + '&#111;rg';document.getElementById('c
 loakdf3f5a27446c563501bf09aa158aa192').innerHTML += '<a ' + path + '\'' + p
 refix + ':' + addydf3f5a27446c563501bf09aa158aa192 + '\' class="">'+addy_te
 xtdf3f5a27446c563501bf09aa158aa192+'';
		\n
X-ALT-DESC;FMTTYPE=text/html:<p>Organizers announce a call for abstracts for the 2017 Japan Geosciences<
 br class="" />Union (JpGU) and the American Geophysical Union (AGU) Joint M
 eeting with<br class="" />the theme, "For a Borderless World of Geoscience.
 " This meeting will<br class="" />convene 20-25 May 2017 in Chiba, Japan.<b
 r class="" /><br class="" />JpGU and AGU will hold the first joint meeting 
 of the two societies<br class="" />covering all areas of the earth and spac
 e sciences with more than 150<br class="" />sessions to be conducted in Eng
 lish. The meeting is expected to have<br class="" />7,000-9,000 scientists 
 from around the globe. The meeting will cover<br class="" />research in all
  areas of space and planetary sciences, atmosphere and<br class="" />hydros
 phere sciences, human geosciences, solid earth sciences, and<br class="" />
 biogeosciences.<br class="" /><br class="" />Travel grants will be availabl
 e for students who wish to travel to this<br class="" />meeting. AGU will b
 e accepting application for students who reside<br class="" />outside of Ja
 pan. JpGU will be taking applications for students residing<br class="" />i
 n Japan. Applications will be begin being accepted at a later date.<br clas
 s="" /><br class="" />Early/discounted abstract submission deadline: 11:59 
 a.m. Japan Standard<br class="" />Time, 3 February 2017.<br class="" /><br 
 class="" />Final abstract submission deadline: 5:00 p.m. Japan Standard Tim
 e, 16<br class="" />February 2017.<br class="" /><br class="" />To submit a
 n abstract, go to:<br class="" /><a href="http://tinyurl.com/JpGU-AGU-Abstr
 act-Submit" class="">http://tinyurl.com/JpGU-AGU-Abstract-Submit</a>.<br cl
 ass="" /><br class="" />For abstract guidelines, go to: <br class="" /><a h
 ref="http://www.jpgu.org/meeting_e2017/submission.html" class="">http://www
 .jpgu.org/meeting_e2017/submission.html</a>.<br class="" /><br class="" />F
 or a list of sessions, go to: <br class="" /><a href="http://www.jpgu.org/m
 eeting_e2017/session_list/" class="">http://www.jpgu.org/meeting_e2017/sess
 ion_list/</a>.<br class="" /><br class="" />For more information about this
  meeting, go to: <br class="" /><a href="http://jpgu.org/meeting_e2017/" cl
 ass="">http://jpgu.org/meeting_e2017/</a>.<br class="" /><br class="" />For
  questions, contact:<br class="" />AGU Office<br class="" />Email: <span id
 ="cloak753d1edfd52badd74751b9f77267266b">This email address is being protec
 ted from spambots. You need JavaScript enabled to view it.</span><script ty
 pe='text/javascript'>
				document.getElementById('cloak753d1edfd52badd7475
 1b9f77267266b').innerHTML = '';
				var prefix = '&#109;a' + 'i&#108;' + '&
 #116;o';
				var path = 'hr' + 'ef' + '=';
				var addy753d1edfd52badd74751
 b9f77267266b = 's&#101;rv&#105;c&#101;' + '&#64;';
				addy753d1edfd52badd7
 4751b9f77267266b = addy753d1edfd52badd74751b9f77267266b + '&#97;g&#117;' + 
 '&#46;' + '&#111;rg';
				var addy_text753d1edfd52badd74751b9f77267266b = '
 s&#101;rv&#105;c&#101;' + '&#64;' + '&#97;g&#117;' + '&#46;' + '&#111;rg';d
 ocument.getElementById('cloak753d1edfd52badd74751b9f77267266b').innerHTML +
 = '<a ' + path + '\'' + prefix + ':' + addy753d1edfd52badd74751b9f77267266b
  + '\' class="">'+addy_text753d1edfd52badd74751b9f77267266b+'<\/a>';
		</sc
 ript><br class="" />Phone: 202-462-6900<br class="" />Toll Free (North Amer
 ica Only): 800-966-2481<br class="" />Website: <a href="http://about.agu.or
 g/contact/" class="">http://about.agu.org/contact/</a><br class="" /><br cl
 ass="" />JpGU Office<br class="" />Email: <span id="cloakdf3f5a27446c563501
 bf09aa158aa192">This email address is being protected from spambots. You ne
 ed JavaScript enabled to view it.</span><script type='text/javascript'>
			
 	document.getElementById('cloakdf3f5a27446c563501bf09aa158aa192').innerHTML
  = '';
				var prefix = '&#109;a' + 'i&#108;' + '&#116;o';
				var path = '
 hr' + 'ef' + '=';
				var addydf3f5a27446c563501bf09aa158aa192 = '&#111;ff&
 #105;c&#101;' + '&#64;';
				addydf3f5a27446c563501bf09aa158aa192 = addydf3
 f5a27446c563501bf09aa158aa192 + 'jpg&#117;' + '&#46;' + '&#111;rg';
				var
  addy_textdf3f5a27446c563501bf09aa158aa192 = '&#111;ff&#105;c&#101;' + '&#6
 4;' + 'jpg&#117;' + '&#46;' + '&#111;rg';document.getElementById('cloakdf3f
 5a27446c563501bf09aa158aa192').innerHTML += '<a ' + path + '\'' + prefix + 
 ':' + addydf3f5a27446c563501bf09aa158aa192 + '\' class="">'+addy_textdf3f5a
 27446c563501bf09aa158aa192+'<\/a>';
		</script></p>
CONTACT:This email address is being protected from spambots. You need JavaScript enabled to view it.
				document.getElementById('cloak14c9e078addaf9513c7634b13d884ce6').innerHTML = '';
				var prefix = '&#109;a' + 'i&#108;' + '&#116;o';
				var path = 'hr' + 'ef' + '=';
				var addy14c9e078addaf9513c7634b13d884ce6 = 's&#101;rv&#105;c&#101;' + '&#64;';
				addy14c9e078addaf9513c7634b13d884ce6 = addy14c9e078addaf9513c7634b13d884ce6 + '&#97;g&#117;' + '&#46;' + '&#111;rg';
				var addy_text14c9e078addaf9513c7634b13d884ce6 = 's&#101;rv&#105;c&#101;' + '&#64;' + '&#97;g&#117;' + '&#46;' + '&#111;rg';document.getElementById('cloak14c9e078addaf9513c7634b13d884ce6').innerHTML += '<a ' + path + '\'' + prefix + ':' + addy14c9e078addaf9513c7634b13d884ce6 + '\'>'+addy_text14c9e078addaf9513c7634b13d884ce6+'';
		
DTSTAMP:20260424T023228Z
DTSTART;TZID=UTC;VALUE=DATE:20170520
DTEND;TZID=UTC;VALUE=DATE:20170526
SEQUENCE:0
TRANSP:OPAQUE
END:VEVENT
END:VCALENDAR