BEGIN:VCALENDAR
VERSION:2.0
PRODID:-//jEvents 2.0 for Joomla//EN
CALSCALE:GREGORIAN
METHOD:PUBLISH
BEGIN:VEVENT
UID:c87bd5988f2617c04594c34cd9b944ac
CATEGORIES:Field and Summer Schools
CREATED:20220118T140535
SUMMARY:Sea Level Summer School in Delft (NL) (Registration deadline 31 March)
LOCATION:Delft\, NL
DESCRIPTION:Please find below the announcement of our 4th Sea Level Summer School, to b
 e held in Delft from August 29th until September 2nd. This year we have a n
 ew angle (Challenges and Policy) and a nice lineup of mostly Dutch scientis
 ts. Registration deadline is March 31st. More information can be found at: 
 Infos_and _Programme_SummerSchool_Sea-level_2022_ (https://d2k0ddhflgrk1i.c
 loudfront.net/CiTG/Over%20faculteit/Afdelingen/Geoscience%20%26%20Remote%20
 sensing/Nieuws%20%26%20agenda/Infos_and%20_Programme_SummerSchool_Sea-level
 _2022_v5.pdf)
X-ALT-DESC;FMTTYPE=text/html:<div style="text-align: justify;">Please find below the announcement of our
  <strong>4th Sea Level Summer School, to be held in Delft from August 29th 
 until September 2nd.</strong></div><div style="text-align: justify;">&nbsp;
 </div><div style="text-align: justify;">This year we have a new angle (Chal
 lenges and Policy) and a nice lineup of mostly Dutch scientists.</div><div 
 style="text-align: justify;">&nbsp;</div><div style="text-align: justify;">
 <strong>Registration deadline is March 31st</strong>. More information can 
 be found at: <a href="https://d2k0ddhflgrk1i.cloudfront.net/CiTG/Over%20fac
 ulteit/Afdelingen/Geoscience%20%26%20Remote%20sensing/Nieuws%20%26%20agenda
 /Infos_and%20_Programme_SummerSchool_Sea-level_2022_v5.pdf" target="_blank"
  rel="noopener" data-saferedirecturl="https://www.google.com/url?q=https://
 d2k0ddhflgrk1i.cloudfront.net/CiTG/Over%2520faculteit/Afdelingen/Geoscience
 %2520%2526%2520Remote%2520sensing/Nieuws%2520%2526%2520agenda/Infos_and%252
 0_Programme_SummerSchool_Sea-level_2022_v5.pdf&amp;source=gmail&amp;ust=164
 2598993090000&amp;usg=AOvVaw2LRNBoE_xSaPSpx3qfJYIJ">Infos_and _Programme_Su
 mmerSchool_Sea-level_2022_</a></div>
DTSTAMP:20260423T025045Z
DTSTART;TZID=UTC;VALUE=DATE:20220829
DTEND;TZID=UTC;VALUE=DATE:20220903
SEQUENCE:0
TRANSP:OPAQUE
END:VEVENT
END:VCALENDAR