BEGIN:VCALENDAR
VERSION:2.0
PRODID:-//jEvents 2.0 for Joomla//EN
CALSCALE:GREGORIAN
METHOD:PUBLISH
BEGIN:VEVENT
UID:f9c85b42e71e140da520f538e9e89f6e
CATEGORIES:Polar Conferences, Meetings and Events
CREATED:20211115T111013
SUMMARY:International Mountain Conference - Innsbruck 2022 - Call for abstracts (Deadline 16 February)
LOCATION:Innsbruck\, Austria
DESCRIPTION:Dear Mountain Researchers!\n\nThere are only a few days left for submitting
  your focus session to the International Mountain Conference IMC2022 (confe
 rence and summer school) being held in Innsbruck in September next year. Se
 ssion submission deadline is November 19th, 2021! The IMC is one of a kind 
 conference, promoting cross-disciplinary exchange between all areas of moun
 tain research in natural and social sciences. Its innovative format favors 
 workshops and discussion over the traditional "one-way" presentation format
 .\n***\nWe invite you to submit an abstract to one of the many cryosphere-r
 elated sessions (https://www.imc2022.info/focus-sessions/). The deadline fo
 r abstract submission closes on February 16th! ***\nThe IMC2019 is a unique
  opportunity to develop and perform high end interdisciplinary research in 
 a novel type of symposium and we would like you to contribute to this press
 ing next step in mountain research.\n\nFind all details about the IMC2022 a
 t <a href="https://www.imc2022.info" target="_blank" rel="noopener">https:/
 /www.imc2022.info</a>\n\nLooking forward to welcoming you to Innsbruck next
  year!\n Fabien MaussionScientific Committee IMC2022 (https://www.imc2022.i
 nfo/scientific-committee/)
X-ALT-DESC;FMTTYPE=text/html:<p style="text-align: justify;">Dear <strong>Mountain Researchers</strong>!
 <br /><br />There are only a few days left for submitting your <strong>focu
 s session</strong> <strong>to the International Mountain Conference IMC2022
 </strong> (conference and summer school) being held in Innsbruck in Septemb
 er next year. Session submission deadline is November 19th, 2021! The IMC i
 s one of a kind conference, promoting cross-disciplinary exchange between a
 ll areas of mountain research in natural and social sciences. Its innovativ
 e format favors workshops and discussion over the traditional "one-way" pre
 sentation format.</p><div style="text-align: justify;"><strong>***<br /><a 
 href="https://www.imc2022.info/focus-sessions/" target="_blank" rel="noopen
 er">We invite you to submit an abstract to one of the many cryosphere-relat
 ed sessions</a>.</strong></div><div style="text-align: justify;">&nbsp;</di
 v><div style="text-align: justify;">The deadline for <strong>abstract submi
 ssion closes on February 16th!</strong></div><div style="text-align: justif
 y;">&nbsp;</div><div style="text-align: justify;">***</div><p style="text-a
 lign: justify;"><br />The IMC2019 is a unique opportunity to develop and pe
 rform high end interdisciplinary research in a novel type of symposium and 
 we would like you to contribute to this pressing next step in mountain rese
 arch.<br /><br /><strong>Find all details about the IMC2022 at <a href="htt
 ps://www.imc2022.info" target="_blank" rel="noopener">https://www.imc2022.i
 nfo</a></strong><br /><br />Looking forward to welcoming you to Innsbruck n
 ext year!</p><div style="text-align: justify;">&nbsp;</div><div style="text
 -align: justify;">Fabien Maussion</div><div style="text-align: justify;"><a
  href="https://www.imc2022.info/scientific-committee/" target="_blank" rel=
 "noopener"><em>Scientific Committee IMC2022</em></a></div>
DTSTAMP:20260423T040740Z
DTSTART;TZID=UTC;VALUE=DATE:20220911
DTEND;TZID=UTC;VALUE=DATE:20220916
SEQUENCE:0
TRANSP:OPAQUE
END:VEVENT
END:VCALENDAR