BEGIN:VCALENDAR
VERSION:2.0
PRODID:-//jEvents 2.0 for Joomla//EN
CALSCALE:GREGORIAN
METHOD:PUBLISH
BEGIN:VEVENT
UID:58c387caf53844a6720270516f5a7b51
CATEGORIES:Polar Conferences, Meetings and Events
CREATED:20210921T092546
SUMMARY:22nd World Congress of Soil Science - Abstract submission deadline 30 November
LOCATION:Glasgow\, UK
DESCRIPTION:The abstract submission is now open for the 22nd World Congress of Soil Sci
 ence (https://22wcss.org/) with a deadline of 31 October 2021.  \nThe congr
 ess dates are from Sunday 31 July (opening ceremony) to Friday 5 August 202
 2 in Glasgow U.K.\nThe technical sessions (plenaries, interdivisional sessi
 ons and scientific sessions) will take place on Monday through Thursday inc
 lusive. There will be opportunity for local tours (soil and tourist related
  activities) on Friday 5 August. There will also be <a href="https://22wcss
 .org/venue/soil-judging/" target="_blank" rel="noopener">soil judging conte
 st</a>.\nJust to remind you, Cryosol Working Group (CWG) is going to organi
 ze the cryopedological session "Progress in understanding cryogenic soils a
 t the ends of the Earth: mountainous, polar and periglacial regions". The s
 ession will take place at the 1st of August (Monday) and we're excited to r
 eceive your abstracts no later than 31st October 2021. Acceptance notificat
 ion will be in January 2022.\nShould you have any questions in regard to th
 e abstract submission process, please contact me directly or our event orga
 nisers, Speakeasy at  (mailto:wcss2022@speak.co.uk)This email address is be
 ing protected from spambots. You need JavaScript enabled to view it.
				do
 cument.getElementById('cloakc67cdff5c0920415bd9af86bab9db4eb').innerHTML = 
 '';
				var prefix = '&#109;a' + 'i&#108;' + '&#116;o';
				var path = 'hr'
  + 'ef' + '=';
				var addyc67cdff5c0920415bd9af86bab9db4eb = 'wcss2022' + 
 '&#64;';
				addyc67cdff5c0920415bd9af86bab9db4eb = addyc67cdff5c0920415bd9
 af86bab9db4eb + 'sp&#101;&#97;k' + '&#46;' + 'c&#111;' + '&#46;' + '&#117;k
 ';
				var addy_textc67cdff5c0920415bd9af86bab9db4eb = 'wcss2022' + '&#64;'
  + 'sp&#101;&#97;k' + '&#46;' + 'c&#111;' + '&#46;' + '&#117;k';document.ge
 tElementById('cloakc67cdff5c0920415bd9af86bab9db4eb').innerHTML += '<a ' + 
 path + '\'' + prefix + ':' + addyc67cdff5c0920415bd9af86bab9db4eb + '\'>'+a
 ddy_textc67cdff5c0920415bd9af86bab9db4eb+'';
		\n\n\n<a href="https://22wcs
 s.org/" target="_blank" rel="noopener">WCSS website</a>\nSession info and a
 bstract submissions (https://22wcss.org/conference/abstracts/)\n \n
X-ALT-DESC;FMTTYPE=text/html:<p style="text-align: justify;">The <strong>abstract submission is now open
  for the <a href="https://22wcss.org/" target="_blank" rel="noopener">22nd 
 World Congress of Soil Science</a> with a deadline of 31 October 2021.&nbsp
 ;&nbsp;</strong></p><p style="text-align: justify;">The congress dates are 
 from <strong>Sunday 31 July (opening ceremony) to Friday 5 August 2022 in G
 lasgow U.K.</strong></p><p style="text-align: justify;">The technical sessi
 ons (plenaries, interdivisional sessions and scientific sessions) will take
  place on Monday through Thursday inclusive. There will be opportunity for 
 local tours (soil and tourist related activities) on Friday 5 August. There
  will also be <a href="https://22wcss.org/venue/soil-judging/" target="_bla
 nk" rel="noopener">soil judging contest</a>.</p><p style="text-align: justi
 fy;">Just to remind you, Cryosol Working Group (CWG) is going to organize t
 he cryopedological session "<strong>Progress in understanding cryogenic soi
 ls at the ends of the Earth: mountainous, polar and periglacial regions</st
 rong>". The session will take place at the 1st of August (Monday) and we're
  excited to receive your <strong>abstracts no later than&nbsp;</strong><str
 ong>31st October 2021</strong>. Acceptance notification will be in January 
 2022.</p><p style="text-align: justify;">Should you have any questions in r
 egard to the abstract submission process, please contact me directly or our
  event organisers, Speakeasy at <a href="mailto:wcss2022@speak.co.uk"></a><
 span id="cloakc67cdff5c0920415bd9af86bab9db4eb">This email address is being
  protected from spambots. You need JavaScript enabled to view it.</span><sc
 ript type='text/javascript'>
				document.getElementById('cloakc67cdff5c092
 0415bd9af86bab9db4eb').innerHTML = '';
				var prefix = '&#109;a' + 'i&#108
 ;' + '&#116;o';
				var path = 'hr' + 'ef' + '=';
				var addyc67cdff5c0920
 415bd9af86bab9db4eb = 'wcss2022' + '&#64;';
				addyc67cdff5c0920415bd9af86
 bab9db4eb = addyc67cdff5c0920415bd9af86bab9db4eb + 'sp&#101;&#97;k' + '&#46
 ;' + 'c&#111;' + '&#46;' + '&#117;k';
				var addy_textc67cdff5c0920415bd9a
 f86bab9db4eb = 'wcss2022' + '&#64;' + 'sp&#101;&#97;k' + '&#46;' + 'c&#111;
 ' + '&#46;' + '&#117;k';document.getElementById('cloakc67cdff5c0920415bd9af
 86bab9db4eb').innerHTML += '<a ' + path + '\'' + prefix + ':' + addyc67cdff
 5c0920415bd9af86bab9db4eb + '\'>'+addy_textc67cdff5c0920415bd9af86bab9db4eb
 +'<\/a>';
		</script><br /><br /></p><p style="text-align: justify;"><a hre
 f="https://22wcss.org/" target="_blank" rel="noopener">WCSS website</a></p>
 <p style="text-align: justify;"><a href="https://22wcss.org/conference/abst
 racts/" target="_blank" rel="noopener">Session info and abstract submission
 s</a></p><p>&nbsp;</p>
DTSTAMP:20260423T035809Z
DTSTART;TZID=UTC;VALUE=DATE:20220731
DTEND;TZID=UTC;VALUE=DATE:20220806
SEQUENCE:0
TRANSP:OPAQUE
END:VEVENT
END:VCALENDAR