BEGIN:VCALENDAR
VERSION:2.0
PRODID:-//jEvents 2.0 for Joomla//EN
CALSCALE:GREGORIAN
METHOD:PUBLISH
BEGIN:VEVENT
UID:fc132cf95823e4c8558815ff023fe96f
CATEGORIES:APECS Events
CREATED:20210910T145540
SUMMARY:Polar Hour / Polarstunde (Only in German)
LOCATION:Online
DESCRIPTION:Herzliche Einladung zur Seminarreihe POLARSTUNDE\nDie “Forschung der Extrem
 e” lädt mit kurzen und lebendigen Vorträgen alle herzlich ein, einen Blick 
 hinter ihre Kulissen zu werfen. An mehreren Mittwochen von Juni 2021 bis Ap
 ril 2022 von 17 bis 18 Uhr präsentiert die deutsche Polarforschung sich in 
 Form von zwei Vorträgen, jeweils von einem Senior und einem Junior Vortrage
 nden. Die Themenvielfalt ist groß: Geschichte(n) der Polarforschung, ein Bl
 ick in die Zukunft mit einer Arktis ohne Eis (?) und in die Vergangenheit, 
 z.B. die Frage, wie sich Klimawandel und Geologie vor 34 Mio Jahren gegense
 itig beeinflusst haben.\nDie POLARSTUNDE wird von der Deutschen Gesellschaf
 t für Polarforschung (DGP) und der Association of Polar Early Career Scient
 ists (APECS) Germany organisiert.\nWir laden alle Menschen gleichermaßen ei
 n, an der Seminarreihe teilzunehmen. Bitte melden Sie sich per Email an Thi
 s email address is being protected from spambots. You need JavaScript enabl
 ed to view it.
				document.getElementById('cloak9229f16fd2f89b95900cd2c93e
 b2b559').innerHTML = '';
				var prefix = '&#109;a' + 'i&#108;' + '&#116;o'
 ;
				var path = 'hr' + 'ef' + '=';
				var addy9229f16fd2f89b95900cd2c93eb
 2b559 = 'p&#111;l&#97;rst&#117;nd&#101;' + '&#64;';
				addy9229f16fd2f89b9
 5900cd2c93eb2b559 = addy9229f16fd2f89b95900cd2c93eb2b559 + 'p&#111;l&#97;rf
 &#111;rsch&#117;ng' + '&#46;' + 'd&#101;';
				var addy_text9229f16fd2f89b9
 5900cd2c93eb2b559 = 'p&#111;l&#97;rst&#117;nd&#101;' + '&#64;' + 'p&#111;l&
 #97;rf&#111;rsch&#117;ng' + '&#46;' + 'd&#101;';document.getElementById('cl
 oak9229f16fd2f89b95900cd2c93eb2b559').innerHTML += '<a ' + path + '\'' + pr
 efix + ':' + addy9229f16fd2f89b95900cd2c93eb2b559 + '\'>'+addy_text9229f16f
 d2f89b95900cd2c93eb2b559+'';
		 bis spätestens zum Vortag der jeweiligen Ve
 ranstaltung an. An alle Teilnehmenden wird der entsprechende (kostenlose) Z
 oom-Link rechtzeitig am Tag der Veranstaltung verschickt.\nAlle Termine fin
 den Sie auf dem Flyer (images/Articles/Files/372_POLARSTUNDE_-_Alexandra_Zu
 hr.pdf):\n16.02: Polargeodäsie und Glaziologie \n13.04: Hebung des Transant
 arktischen Gebirges und globaler Klimawandel vor 34 Millionen Jahren: ein H
 enne-oder-Ei Problem?\nWir freuen uns auf Sie!\nDGP und APECS Germany\n \n
X-ALT-DESC;FMTTYPE=text/html:<p>Herzliche Einladung zur Seminarreihe POLARSTUNDE</p><p>Die “Forschung de
 r Extreme” lädt mit kurzen und lebendigen Vorträgen alle herzlich ein, eine
 n Blick hinter ihre Kulissen zu werfen. An mehreren Mittwochen von Juni 202
 1 bis April 2022 von 17 bis 18 Uhr präsentiert die deutsche Polarforschung 
 sich in Form von zwei Vorträgen, jeweils von einem Senior und einem Junior 
 Vortragenden. Die Themenvielfalt ist groß: Geschichte(n) der Polarforschung
 , ein Blick in die Zukunft mit einer Arktis ohne Eis (?) und in die Vergang
 enheit, z.B. die Frage, wie sich Klimawandel und Geologie vor 34 Mio Jahren
  gegenseitig beeinflusst haben.</p><p>Die POLARSTUNDE wird von der Deutsche
 n Gesellschaft für Polarforschung (DGP) und der Association of Polar Early 
 Career Scientists (APECS) Germany organisiert.</p><p>Wir laden alle Mensche
 n gleichermaßen ein, an der Seminarreihe teilzunehmen. Bitte melden Sie sic
 h per Email an <span id="cloak9229f16fd2f89b95900cd2c93eb2b559">This email 
 address is being protected from spambots. You need JavaScript enabled to vi
 ew it.</span><script type='text/javascript'>
				document.getElementById('c
 loak9229f16fd2f89b95900cd2c93eb2b559').innerHTML = '';
				var prefix = '&#
 109;a' + 'i&#108;' + '&#116;o';
				var path = 'hr' + 'ef' + '=';
				var a
 ddy9229f16fd2f89b95900cd2c93eb2b559 = 'p&#111;l&#97;rst&#117;nd&#101;' + '&
 #64;';
				addy9229f16fd2f89b95900cd2c93eb2b559 = addy9229f16fd2f89b95900cd
 2c93eb2b559 + 'p&#111;l&#97;rf&#111;rsch&#117;ng' + '&#46;' + 'd&#101;';
		
 		var addy_text9229f16fd2f89b95900cd2c93eb2b559 = 'p&#111;l&#97;rst&#117;nd
 &#101;' + '&#64;' + 'p&#111;l&#97;rf&#111;rsch&#117;ng' + '&#46;' + 'd&#101
 ;';document.getElementById('cloak9229f16fd2f89b95900cd2c93eb2b559').innerHT
 ML += '<a ' + path + '\'' + prefix + ':' + addy9229f16fd2f89b95900cd2c93eb2
 b559 + '\'>'+addy_text9229f16fd2f89b95900cd2c93eb2b559+'<\/a>';
		</script>
  bis spätestens zum Vortag der jeweiligen Veranstaltung an. An alle Teilneh
 menden wird der entsprechende (kostenlose) Zoom-Link rechtzeitig am Tag der
  Veranstaltung verschickt.</p><p><a href="images/Articles/Files/372_POLARST
 UNDE_-_Alexandra_Zuhr.pdf">Alle Termine finden Sie auf dem Flyer</a>:</p><p
 >16.02: Polargeodäsie und Glaziologie <br />13.04: Hebung des Transantarkti
 schen Gebirges und globaler Klimawandel vor 34 Millionen Jahren: ein Henne-
 oder-Ei Problem?</p><p>Wir freuen uns auf Sie!</p><p>DGP und APECS Germany<
 /p><p>&nbsp;</p>
DTSTAMP:20260425T153006Z
DTSTART;TZID=UTC;VALUE=DATE:20220216
DTEND;TZID=UTC;VALUE=DATE:20220217
SEQUENCE:0
TRANSP:OPAQUE
END:VEVENT
END:VCALENDAR