BEGIN:VCALENDAR
VERSION:2.0
PRODID:-//jEvents 2.0 for Joomla//EN
CALSCALE:GREGORIAN
METHOD:PUBLISH
BEGIN:VEVENT
UID:ba08c2b3ce2889d3bdbe36e22082f292
CATEGORIES:Polar Online Events
CREATED:20210824T111917
SUMMARY:Geo.X Lecture Series - Introduction to Social Sciences for Natural Scientists
LOCATION:Online
DESCRIPTION:We cordially invite you to the second part of the Geo.X Lecture Series "Int
 roduction to Social Sciences for Natural Scientists"! \nWe are happy to wel
 come Dr. Kati Krähnert from Potsdam Institute of Climate Impact Research (P
 IK) giving a talk on: “Measuring and analyzing human well-being with househ
 old surveys”\nThe lecture will take place online on Monday, 6th September 2
 021, at 1:30pm (CEST) via Zoom.\n \n If you haven't yet registered, please 
 write to Theresa Frommen ( (mailto:theresa.frommen@hu-berlin.de)This email 
 address is being protected from spambots. You need JavaScript enabled to vi
 ew it.
				document.getElementById('cloak820001d08efd85bb7240a753ac29c4cc')
 .innerHTML = '';
				var prefix = '&#109;a' + 'i&#108;' + '&#116;o';
				va
 r path = 'hr' + 'ef' + '=';
				var addy820001d08efd85bb7240a753ac29c4cc = 
 'th&#101;r&#101;s&#97;.fr&#111;mm&#101;n' + '&#64;';
				addy820001d08efd85
 bb7240a753ac29c4cc = addy820001d08efd85bb7240a753ac29c4cc + 'h&#117;-b&#101
 ;rl&#105;n' + '&#46;' + 'd&#101;';
				var addy_text820001d08efd85bb7240a75
 3ac29c4cc = 'th&#101;r&#101;s&#97;.fr&#111;mm&#101;n' + '&#64;' + 'h&#117;-
 b&#101;rl&#105;n' + '&#46;' + 'd&#101;';document.getElementById('cloak82000
 1d08efd85bb7240a753ac29c4cc').innerHTML += '<a ' + path + '\'' + prefix + '
 :' + addy820001d08efd85bb7240a753ac29c4cc + '\'>'+addy_text820001d08efd85bb
 7240a753ac29c4cc+'';
		) for registration. (If you already registered last 
 time, you do not need to register again).\nParticipants who attend at least
  75% of the lectures can receive a certificate of participation from Geo.X 
 at the end.\nWe are very much looking forward to seeing you all there!\nWit
 h best wishes,\nDr. Theresa Frommen, Anne Scheibe  &amp; Lisa Rheinheimer\n
X-ALT-DESC;FMTTYPE=text/html:<p style="text-align: justify;"><span lang="EN-US">We cordially invite you 
 to the second part of the <strong>Geo.X Lecture Series "Introduction to Soc
 ial Sciences for Natural Scientists"!</strong> </span></p><p style="text-al
 ign: justify;"><span lang="EN-US">We are happy to welcome Dr. Kati Krähnert
  from Potsdam Institute of Climate Impact Research (PIK) giving a talk on: 
 <strong>“Measuring and analyzing human well-being with household surveys”</
 strong></span></p><p style="text-align: justify;"><span lang="EN-US">The le
 cture will take place online on <strong>Monday, 6<sup>th</sup> September 20
 21</strong>, at <strong>1:30pm</strong> (CEST) via Zoom.<br /> <br /> If yo
 u haven't yet registered, please write to Theresa Frommen (<a href="mailto:
 theresa.frommen@hu-berlin.de" target="_blank"></a><span id="cloak820001d08e
 fd85bb7240a753ac29c4cc">This email address is being protected from spambots
 . You need JavaScript enabled to view it.</span><script type='text/javascri
 pt'>
				document.getElementById('cloak820001d08efd85bb7240a753ac29c4cc').i
 nnerHTML = '';
				var prefix = '&#109;a' + 'i&#108;' + '&#116;o';
				var 
 path = 'hr' + 'ef' + '=';
				var addy820001d08efd85bb7240a753ac29c4cc = 't
 h&#101;r&#101;s&#97;.fr&#111;mm&#101;n' + '&#64;';
				addy820001d08efd85bb
 7240a753ac29c4cc = addy820001d08efd85bb7240a753ac29c4cc + 'h&#117;-b&#101;r
 l&#105;n' + '&#46;' + 'd&#101;';
				var addy_text820001d08efd85bb7240a753a
 c29c4cc = 'th&#101;r&#101;s&#97;.fr&#111;mm&#101;n' + '&#64;' + 'h&#117;-b&
 #101;rl&#105;n' + '&#46;' + 'd&#101;';document.getElementById('cloak820001d
 08efd85bb7240a753ac29c4cc').innerHTML += '<a ' + path + '\'' + prefix + ':'
  + addy820001d08efd85bb7240a753ac29c4cc + '\'>'+addy_text820001d08efd85bb72
 40a753ac29c4cc+'<\/a>';
		</script>) for registration. (If you already regi
 stered last time, you do not need to register again).</span></p><p style="t
 ext-align: justify;"><span lang="EN-US">Participants who attend at least 75
 % of the lectures can receive a certificate of participation from Geo.X at 
 the end.</span></p><p style="text-align: justify;"><span lang="EN-US">We ar
 e very much looking forward to seeing you all there!</span></p><p style="te
 xt-align: justify;">With best wishes,</p><p style="text-align: justify;">Dr
 . Theresa Frommen, Anne Scheibe&nbsp; &amp; Lisa Rheinheimer</p>
DTSTAMP:20260425T201229Z
DTSTART;TZID=UTC;VALUE=DATE:20210906
DTEND;TZID=UTC;VALUE=DATE:20210907
SEQUENCE:0
TRANSP:OPAQUE
END:VEVENT
END:VCALENDAR