BEGIN:VCALENDAR
VERSION:2.0
PRODID:-//jEvents 2.0 for Joomla//EN
CALSCALE:GREGORIAN
METHOD:PUBLISH
BEGIN:VEVENT
UID:f1c89876a110d1b5c3b5a018515b5bd5
CATEGORIES:Polar Online Events
CREATED:20210621T065323
SUMMARY:Virtual GreenRisk4ALPs Mountain Forest Conference
LOCATION:Online
DESCRIPTION:We would like to invite you to join the upcoming GreenRisk4ALPs Mountain Fo
 rest Conference (https://cmi.eventsair.com/greenrisk4alps/), which will be 
 held online on June 28 and 29, 2021.\nThe conference is promoting risk-base
 d protective forest management as part of an integral and ecosystem-based n
 atural hazard risk management in the Alpine Space. We will share new insigh
 ts and developed decision support tools and discuss with representatives fr
 om organizations and networks such as the Alpine Convention, EUSALP, GLOMOS
 , IUCN, IUFRO, PLANALP, and the Interreg Alpine Space program.\nThis virtua
 l conference will be held under the auspices of the IUFRO Division 8.03.00 
 – Natural Hazards and Risk Management, and the IUFRO Unit 8.03.02 – Snow an
 d Avalanches, and is free of charge.\n<a href="https://cmi.eventsair.com/gr
 eenrisk4alps/" target="_blank" rel="noopener">Register now!</a>\nBest,\nMic
 haela Teich &amp; the Organizing Team:\n Anne Hormes and Jan-Thomas Fischer
 , Austrian Research Centre for Forests (BFW)\nFred Berger, National Researc
 h Institute for Agriculture, Food and Environment (INRAE)\nJean Pierre Foss
 on and Paolo Perret, Safe Mountain Foundation (FMS)\nKilian Heil, Austrian 
 Federal Ministry of Agriculture, Regions and Tourism (BMLRT)\nStefan Steger
 , EURAC Research\n
X-ALT-DESC;FMTTYPE=text/html:<p style="text-align: justify;">We would like to invite you to join the upc
 oming <a href="https://cmi.eventsair.com/greenrisk4alps/" target="_blank" r
 el="noopener">GreenRisk4ALPs Mountain Forest Conference</a>, which will be 
 held online on <strong>June 28 and 29, 2021</strong>.</p><p style="text-ali
 gn: justify;">The conference is promoting risk-based protective forest mana
 gement as part of an integral and ecosystem-based natural hazard risk manag
 ement in the Alpine Space. We will share new insights and developed decisio
 n support tools and discuss with representatives from organizations and net
 works such as the Alpine Convention, EUSALP, GLOMOS, IUCN, IUFRO, PLANALP, 
 and the Interreg Alpine Space program.</p><p style="text-align: justify;">T
 his virtual conference will be held under the auspices of the IUFRO Divisio
 n 8.03.00 – Natural Hazards and Risk Management, and the IUFRO Unit 8.03.02
  – Snow and Avalanches, and is free of charge.</p><p><strong><a href="https
 ://cmi.eventsair.com/greenrisk4alps/" target="_blank" rel="noopener">Regist
 er now!</a></strong></p><p style="text-align: justify;">Best,</p><p style="
 text-align: justify;">Michaela Teich &amp; the Organizing Team:<br /> Anne 
 Hormes and Jan-Thomas Fischer, Austrian Research Centre for Forests (BFW)<b
 r />Fred Berger, National Research Institute for Agriculture, Food and Envi
 ronment (INRAE)<br />Jean Pierre Fosson and Paolo Perret, Safe Mountain Fou
 ndation (FMS)<br />Kilian Heil, Austrian Federal Ministry of Agriculture, R
 egions and Tourism (BMLRT)<br />Stefan Steger, EURAC Research</p>
DTSTAMP:20260422T235030Z
DTSTART;TZID=UTC;VALUE=DATE:20210628
DTEND;TZID=UTC;VALUE=DATE:20210630
SEQUENCE:0
TRANSP:OPAQUE
END:VEVENT
END:VCALENDAR