BEGIN:VCALENDAR
VERSION:2.0
PRODID:-//jEvents 2.0 for Joomla//EN
CALSCALE:GREGORIAN
METHOD:PUBLISH
BEGIN:VEVENT
UID:55e8376db988038734ae4cac7030eb07
CATEGORIES:Polar Online Events
CREATED:20210428T072330
SUMMARY:Working Outside the Box: Stories, Tools and Approaches for Transdisciplinary Research
LOCATION:Online
DESCRIPTION:The SRI2021 Team is excited to announce Working outside the box: Stories, a
 pproaches and tools for transdisciplinary research. Join us on May 6th for 
 a publicly available panel discussion between transdisciplinary research ex
 perts, to be followed by a two-part exclusive training for 20 SRI registran
 ts.\nFind more information, attend the panel (https://sri2021.us2.pathable.
 com/meetings/virtual/u3cYKCh48YJ2sxPYt), <a href="https://sri2021.org/regis
 tration/" target="_blank" rel="noopener">register for SRI</a>, and apply  (
 https://fe.memberclicks.net/sri-trainingscholarship?servId=10265#/)for the 
 additional two-part training on the <a href="https://sri2021.org/working-ou
 tside-the-box-stories-approaches-and-tools-for-transdisciplinary-research/"
  target="_blank" rel="noopener">SRI2021 website</a>.\n
X-ALT-DESC;FMTTYPE=text/html:<p style="text-align: justify;">The SRI2021 Team is excited to announce <st
 rong>Working outside the box: Stories, approaches and tools for transdiscip
 linary research</strong>. Join us on <strong>May 6th</strong> for a publicl
 y available panel discussion between transdisciplinary research experts, to
  be followed by a two-part exclusive training for 20 SRI registrants.</p><p
  style="text-align: justify;">Find more information, <a href="https://sri20
 21.us2.pathable.com/meetings/virtual/u3cYKCh48YJ2sxPYt" target="_blank" rel
 ="noopener">attend the panel</a>, <a href="https://sri2021.org/registration
 /" target="_blank" rel="noopener">register for SRI</a>, and <a href="https:
 //fe.memberclicks.net/sri-trainingscholarship?servId=10265#/" target="_blan
 k" rel="noopener">apply </a>for the additional two-part training on the <a 
 href="https://sri2021.org/working-outside-the-box-stories-approaches-and-to
 ols-for-transdisciplinary-research/" target="_blank" rel="noopener">SRI2021
  website</a>.</p>
DTSTAMP:20260426T005334Z
DTSTART;TZID=UTC;VALUE=DATE:20210506
DTEND;TZID=UTC;VALUE=DATE:20210507
SEQUENCE:0
TRANSP:OPAQUE
END:VEVENT
END:VCALENDAR