BEGIN:VCALENDAR
VERSION:2.0
PRODID:-//jEvents 2.0 for Joomla//EN
CALSCALE:GREGORIAN
METHOD:PUBLISH
BEGIN:VEVENT
UID:03409799c71767247ece21c9bc6d7275
CATEGORIES:Polar Conferences, Meetings and Events
CREATED:20210414T082534
SUMMARY:IUGG General Assembly 2023
LOCATION:Berlin\, Germany
DESCRIPTION:All the Associations will meet again at the next International Union of Geo
 desy and Geophysics (IUGG) General Assembly, which will be held from 11 to 
 20 July 2023 in Berlin, Germany. More information about the assembly can be
  found here (https://www.iugg2023berlin.org/).\n\n
X-ALT-DESC;FMTTYPE=text/html:<p style="text-align: justify;">All the Associations will meet again at the
  next&nbsp;<em><strong>International Union of Geodesy and Geophysics (IUGG)
  </strong></em>General Assembly, which will be held from <strong>11 to 20 J
 uly 2023 in Berlin, Germany.</strong> More information about the assembly c
 an be found <a href="https://www.iugg2023berlin.org/" target="_blank" rel="
 noopener"><span lang="EN-US">here</span></a>.<em><strong><br /></strong></e
 m></p>
DTSTAMP:20260422T202549Z
DTSTART;TZID=UTC;VALUE=DATE:20230711
DTEND;TZID=UTC;VALUE=DATE:20230721
SEQUENCE:0
TRANSP:OPAQUE
END:VEVENT
END:VCALENDAR