BEGIN:VCALENDAR
VERSION:2.0
PRODID:-//jEvents 2.0 for Joomla//EN
CALSCALE:GREGORIAN
METHOD:PUBLISH
BEGIN:VEVENT
UID:382d937abe59fb201215cf315244d3f0
CATEGORIES:Polar Online Events
CREATED:20210331T134225
SUMMARY:Workshop announcement: Using models to improve our understanding of Antarctic krill and their ecological role in the Southern Ocean
LOCATION:Online
DESCRIPTION:Individual sessions throughout May 17 - 28, 2021 (subject to change)\nThe I
 ntegrating Climate and Ecosystem Dynamics in the Southern Ocean program (IC
 ED) is pleased to announce a virtual workshop targeted at researchers with 
 broad interests in modelling Antarctic krill and/or their ecology. These mo
 delling projects can include, but are not limited to: the krill life cycle;
  food-web interactions; environmental impacts on distribution; population p
 rocesses, movement and retention; or feedback processes. A diverse group of
  participants from every stage and area of research is strongly encouraged 
 to apply, with special emphasis on the participation of early career resear
 chers (ECRs).\nThis workshop aims to exchange ideas on current research, sh
 are expertise in modelling techniques, develop insights into integrating mo
 delling approaches, and outline a clear set of\npriority research needs. Th
 e workshop will include:\n(1) speed talks presenting ongoing research proje
 cts;\n(2) tutorials where ECRs and established researchers will collaborate
  on presenting “current approaches/best practices” seminars on methods for 
 modelling krill;\n(3) guided discussions on advancing understanding, inform
 ed by the tutorials.\nIn addition to the workshop’s scientific objectives, 
 participants will have the opportunity to gain new research networks, impro
 ve their communication channels, and collaborate with a diverse community o
 f multidisciplinary scientists.\nFollowing on from the workshop, we intend 
 to produce a peer-reviewed article that outlines the current diverse range 
 of krill models and provides a framework for advancing krill modelling and 
 its applications, for example in understanding circumpolar Southern Ocean e
 cosystem operation, impacts and feedback processes within the Earth System 
 and supporting conservation and sustainable resource management.\nWe invite
  interested participants to submit an expression of interest using this lin
 k (https://docs.google.com/forms/d/e/1FAIpQLSdRVDDHtvoqkGewVntfit025Qg3uhRP
 iSxybTgEG0V299lWhg/viewform) by April 9th at 23:00 GMT. Alternatively, if t
 he online form cannot be filled out, please contact the organizers (This em
 ail address is being protected from spambots. You need JavaScript enabled t
 o view it.
				document.getElementById('cloak3ff4b3fa4eafbcd4909400ac112ca8
 76').innerHTML = '';
				var prefix = '&#109;a' + 'i&#108;' + '&#116;o';
		
 		var path = 'hr' + 'ef' + '=';
				var addy3ff4b3fa4eafbcd4909400ac112ca87
 6 = '&#105;c&#101;d.w&#111;rksh&#111;p2021' + '&#64;';
				addy3ff4b3fa4eaf
 bcd4909400ac112ca876 = addy3ff4b3fa4eafbcd4909400ac112ca876 + 'gm&#97;&#105
 ;l' + '&#46;' + 'c&#111;m';
				var addy_text3ff4b3fa4eafbcd4909400ac112ca8
 76 = '&#105;c&#101;d.w&#111;rksh&#111;p2021' + '&#64;' + 'gm&#97;&#105;l' +
  '&#46;' + 'c&#111;m';document.getElementById('cloak3ff4b3fa4eafbcd4909400a
 c112ca876').innerHTML += '<a ' + path + '\'' + prefix + ':' + addy3ff4b3fa4
 eafbcd4909400ac112ca876 + '\'>'+addy_text3ff4b3fa4eafbcd4909400ac112ca876+'
 ';
		) for a fillable pdf form. The themes of the sessions and the workshop
  timetable will be informed by the interest received. Depending on the amou
 nt of interest received, participant numbers may be limited to accommodate 
 capacity. In the event the capacity is exceeded, an additional larger works
 hop will be planned for a later date to accommodate all interested particip
 ants.\n \nLooking forward to your contributions,\nECR organizers: Devi Veyt
 ia, Alexis Bahl, Zephyr Sylvester, Dominik Bahlburg\nAlong with Eugene Murp
 hy, Stuart Corney, Eileen Hofmann, Bettina Meyer, Nadine Johnston, Sally Th
 orpe, Cassandra Brooks\n
X-ALT-DESC;FMTTYPE=text/html:<p style="text-align: justify;"><strong>Individual sessions throughout May 
 17 - 28, 2021 (subject to change)</strong></p><p style="text-align: justify
 ;">The <strong>Integrating Climate and Ecosystem Dynamics in the Southern O
 cean program (ICED)</strong> is pleased to announce a virtual workshop targ
 eted at researchers with broad interests in modelling Antarctic krill and/o
 r their ecology. These modelling projects can include, but are not limited 
 to: the krill life cycle; food-web interactions; environmental impacts on d
 istribution; population processes, movement and retention; or feedback proc
 esses. A diverse group of participants from every stage and area of researc
 h is strongly encouraged to apply, with special emphasis on the participati
 on of early career researchers (ECRs).</p><p style="text-align: justify;">T
 his workshop aims to exchange ideas on current research, share expertise in
  modelling techniques, develop insights into integrating modelling approach
 es, and outline a clear set of<br />priority research needs. The workshop w
 ill include:</p><p style="text-align: justify;"><strong>(1) speed talks pre
 senting ongoing research projects;</strong></p><p style="text-align: justif
 y;">(<strong>2) tutorials where ECRs and established researchers will colla
 borate on presenting “current approaches/best practices” seminars on method
 s for modelling krill;</strong></p><p style="text-align: justify;"><strong>
 (3) guided discussions on advancing understanding, informed by the tutorial
 s.</strong></p><p style="text-align: justify;">In addition to the workshop’
 s scientific objectives, participants will have the opportunity to gain new
  research networks, improve their communication channels, and collaborate w
 ith a diverse community of multidisciplinary scientists.</p><p style="text-
 align: justify;">Following on from the workshop, we intend to produce a pee
 r-reviewed article that outlines the current diverse range of krill models 
 and provides a framework for advancing krill modelling and its applications
 , for example in understanding circumpolar Southern Ocean ecosystem operati
 on, impacts and feedback processes within the Earth System and supporting c
 onservation and sustainable resource management.</p><p style="text-align: j
 ustify;"><strong>We invite interested participants to submit an expression 
 of interest using <a href="https://docs.google.com/forms/d/e/1FAIpQLSdRVDDH
 tvoqkGewVntfit025Qg3uhRPiSxybTgEG0V299lWhg/viewform" target="_blank" rel="n
 oopener">this link</a> by April 9th at 23:00 GMT</strong>. Alternatively, i
 f the online form cannot be filled out, please contact the organizers (<spa
 n id="cloak3ff4b3fa4eafbcd4909400ac112ca876">This email address is being pr
 otected from spambots. You need JavaScript enabled to view it.</span><scrip
 t type='text/javascript'>
				document.getElementById('cloak3ff4b3fa4eafbcd
 4909400ac112ca876').innerHTML = '';
				var prefix = '&#109;a' + 'i&#108;' 
 + '&#116;o';
				var path = 'hr' + 'ef' + '=';
				var addy3ff4b3fa4eafbcd4
 909400ac112ca876 = '&#105;c&#101;d.w&#111;rksh&#111;p2021' + '&#64;';
				a
 ddy3ff4b3fa4eafbcd4909400ac112ca876 = addy3ff4b3fa4eafbcd4909400ac112ca876 
 + 'gm&#97;&#105;l' + '&#46;' + 'c&#111;m';
				var addy_text3ff4b3fa4eafbcd
 4909400ac112ca876 = '&#105;c&#101;d.w&#111;rksh&#111;p2021' + '&#64;' + 'gm
 &#97;&#105;l' + '&#46;' + 'c&#111;m';document.getElementById('cloak3ff4b3fa
 4eafbcd4909400ac112ca876').innerHTML += '<a ' + path + '\'' + prefix + ':' 
 + addy3ff4b3fa4eafbcd4909400ac112ca876 + '\'>'+addy_text3ff4b3fa4eafbcd4909
 400ac112ca876+'<\/a>';
		</script>) for a fillable pdf form. The themes of 
 the sessions and the workshop timetable will be informed by the interest re
 ceived. Depending on the amount of interest received, participant numbers m
 ay be limited to accommodate capacity. In the event the capacity is exceede
 d, an additional larger workshop will be planned for a later date to accomm
 odate all interested participants.</p><p style="text-align: justify;">&nbsp
 ;</p><p style="text-align: justify;">Looking forward to your contributions,
 </p><p style="text-align: justify;">ECR organizers: Devi Veytia, Alexis Bah
 l, Zephyr Sylvester, Dominik Bahlburg<br />Along with Eugene Murphy, Stuart
  Corney, Eileen Hofmann, Bettina Meyer, Nadine Johnston, Sally Thorpe, Cass
 andra Brooks</p>
DTSTAMP:20260423T040719Z
DTSTART;TZID=UTC;VALUE=DATE:20210517
DTEND;TZID=UTC;VALUE=DATE:20210518
SEQUENCE:0
TRANSP:OPAQUE
END:VEVENT
END:VCALENDAR