BEGIN:VCALENDAR
VERSION:2.0
PRODID:-//jEvents 2.0 for Joomla//EN
CALSCALE:GREGORIAN
METHOD:PUBLISH
BEGIN:VEVENT
UID:7113e4f1ff472710769beec12758eb2c
CATEGORIES:Polar Conferences, Meetings and Events
CREATED:20210330T141755
SUMMARY:26th International Symposium on Polar Sciences (ISPS2021) - Call for abstracts
LOCATION:Incheon
DESCRIPTION:We are pleased to let you know that the 26th International Symposium on Pol
 ar Sciences (ISPS2021) will be accepting abstract submissions from April 12
  to May 9, 2021. The ISPS2021 is currently scheduled to be held in Incheon,
  the Republic of Korea from September 27 to 29, 2021.\nPlease note that whi
 le we look forward to holding the symposium in Incheon, we may have to move
  it online depending on the developments surrounding COVID-19, with a final
  decision to be announced in June. \nWith "Responding to Climate Crisis: Co
 ntributions of Polar Science and Technology” as its overarching theme, the 
 symposium invites papers that examine:\n- Polar climate science in the cont
 ext of global climate crisis;\n- Cryosphere evolution and sea-level change;
 \n- Sea ice and polar oceans in rapid transition;\n- A paleoclimate perspec
 tive on climatic and environmental extremes;\n- Integrated study of subglac
 ial Antarctic lake ecosystems; and\n- Technological advances enabling new p
 olar science.\n \nAbstracts will be accepted for oral and poster presentati
 ons, and all submissions must be in English. Important dates are as follows
 :\n- Abstract Submission: April 12 - May 9, 2021\n- Notification of Abstrac
 t Acceptance: June 2021\n- ISPS 2021: September 27-29, 2021\n \nDetailed in
 formation is available here (images/Articles/Files/The_26th_International_S
 ymposium_on_Polar_Sciences_Second_Circular.pdf), and more information will 
 be posted on our website (<a href="https://www.kopri.re.kr/symposium/" targ
 et="_blank" rel="noopener">www.kopri.re.kr/symposium/</a>) as the date appr
 oaches. \nShould you have any questions regarding the symposium, please con
 tact the ISPS2021 Secretariat at This email address is being protected from
  spambots. You need JavaScript enabled to view it.
				document.getElementB
 yId('cloakf6a90f491f79ec813a831e7500aef8e6').innerHTML = '';
				var prefix
  = '&#109;a' + 'i&#108;' + '&#116;o';
				var path = 'hr' + 'ef' + '=';
			
 	var addyf6a90f491f79ec813a831e7500aef8e6 = 'symp&#111;s&#105;&#117;m' + '&
 #64;';
				addyf6a90f491f79ec813a831e7500aef8e6 = addyf6a90f491f79ec813a831
 e7500aef8e6 + 'k&#111;pr&#105;' + '&#46;' + 'r&#101;' + '&#46;' + 'kr';
			
 	var addy_textf6a90f491f79ec813a831e7500aef8e6 = 'symp&#111;s&#105;&#117;m'
  + '&#64;' + 'k&#111;pr&#105;' + '&#46;' + 'r&#101;' + '&#46;' + 'kr';docum
 ent.getElementById('cloakf6a90f491f79ec813a831e7500aef8e6').innerHTML += '<
 a ' + path + '\'' + prefix + ':' + addyf6a90f491f79ec813a831e7500aef8e6 + '
 \'>'+addy_textf6a90f491f79ec813a831e7500aef8e6+'';
		\n
X-ALT-DESC;FMTTYPE=text/html:<p>We are pleased to let you know that the <strong>26th International Sympo
 sium on Polar Sciences (ISPS2021)</strong> will be <strong>accepting abstra
 ct submissions from April 12 to May 9, 2021</strong>. The ISPS2021 is curre
 ntly scheduled to be held in Incheon, the Republic of Korea from <strong>Se
 ptember 27 to 29, 2021.</strong></p><p>Please note that while we look forwa
 rd to holding the symposium in Incheon, we may have to move it online depen
 ding on the developments surrounding COVID-19, with a final decision to be 
 announced in June. </p><p>With<strong> "Responding to Climate Crisis: Contr
 ibutions of Polar Science and Technology”</strong> as its overarching theme
 , the symposium invites papers that examine:</p><p>- Polar climate science 
 in the context of global climate crisis;</p><p>- Cryosphere evolution and s
 ea-level change;</p><p>- Sea ice and polar oceans in rapid transition;</p><
 p>- A paleoclimate perspective on climatic and environmental extremes;</p><
 p>- Integrated study of subglacial Antarctic lake ecosystems; and</p><p>- T
 echnological advances enabling new polar science.</p><p>&nbsp;</p><p>Abstra
 cts will be accepted for oral and poster presentations, and all submissions
  must be in English. Important dates are as follows:</p><p>- <strong>Abstra
 ct Submission: April 12 - May 9, 2021</strong></p><p>- <strong>Notification
  of Abstract Acceptance: June 2021</strong></p><p>-<strong> ISPS 2021: Sept
 ember 27-29, 2021</strong></p><p>&nbsp;</p><p>Detailed information is avail
 able <a href="images/Articles/Files/The_26th_International_Symposium_on_Pol
 ar_Sciences_Second_Circular.pdf" target="_blank">here</a>, and more informa
 tion will be posted on our website (<a href="https://www.kopri.re.kr/sympos
 ium/" target="_blank" rel="noopener">www.kopri.re.kr/symposium/</a>) as the
  date approaches. </p><p>Should you have any questions regarding the sympos
 ium, please contact the ISPS2021 Secretariat at <span id="cloakf6a90f491f79
 ec813a831e7500aef8e6">This email address is being protected from spambots. 
 You need JavaScript enabled to view it.</span><script type='text/javascript
 '>
				document.getElementById('cloakf6a90f491f79ec813a831e7500aef8e6').inn
 erHTML = '';
				var prefix = '&#109;a' + 'i&#108;' + '&#116;o';
				var pa
 th = 'hr' + 'ef' + '=';
				var addyf6a90f491f79ec813a831e7500aef8e6 = 'sym
 p&#111;s&#105;&#117;m' + '&#64;';
				addyf6a90f491f79ec813a831e7500aef8e6 
 = addyf6a90f491f79ec813a831e7500aef8e6 + 'k&#111;pr&#105;' + '&#46;' + 'r&#
 101;' + '&#46;' + 'kr';
				var addy_textf6a90f491f79ec813a831e7500aef8e6 =
  'symp&#111;s&#105;&#117;m' + '&#64;' + 'k&#111;pr&#105;' + '&#46;' + 'r&#1
 01;' + '&#46;' + 'kr';document.getElementById('cloakf6a90f491f79ec813a831e7
 500aef8e6').innerHTML += '<a ' + path + '\'' + prefix + ':' + addyf6a90f491
 f79ec813a831e7500aef8e6 + '\'>'+addy_textf6a90f491f79ec813a831e7500aef8e6+'
 <\/a>';
		</script></p>
DTSTAMP:20260423T050117Z
DTSTART;TZID=UTC;VALUE=DATE:20210927
DTEND;TZID=UTC;VALUE=DATE:20210930
SEQUENCE:0
TRANSP:OPAQUE
END:VEVENT
END:VCALENDAR