BEGIN:VCALENDAR
VERSION:2.0
PRODID:-//jEvents 2.0 for Joomla//EN
CALSCALE:GREGORIAN
METHOD:PUBLISH
BEGIN:VEVENT
UID:5f61f5bdf308d0683656982fe92f6209
CATEGORIES:Polar Online Events
CREATED:20210324T084016
SUMMARY:Webinar Announcement: AtlantOS - an EU Horizon 2020 Program
LOCATION:Online
DESCRIPTION:Bermuda to Bear Island Science (B2BI) announces their upcoming webinar, Atl
 antOS, an EU Horizon 2020 Program. This webinar will take place Wednesday, 
 24 March 2021 at 11:30 a.m. EDT (16:30 CET).\nWebinar speakers will include
 :\nMartin Visbeck (GEOMAR, Kiel, Germany),\n Isabel Sousa Pinto (Interdisci
 plinary Centre of Marine and Environmental Research [CIIMAR], Porto, Portug
 al),\n Sandra Ketelhake (Konsortium Deutsche Meeresforschung [KDM], Brussel
 s office, Belgium), and\n Ann-Christine Zinkann (National Oceanic and Atmos
 pheric Administration [NOAA], USA).\nWebinar Description:\nAtlantOS envisio
 ns a basin-scale observing system, sustainably resourced, and efficiently o
 perated to realize the ambition of a broad set of stakeholders and their ne
 ed for ocean information. Specifically, it will connect scientists, policy 
 makers, the private sector, and civil society to articulate a fit-for-purpo
 se system that delivers critical ocean information in a value-added context
  to address the range from data capture to end products and services.\nThe 
 practical work focuses on the supporting the AtlanticBasin Scale Implementa
 tion of the Global Ocean Observing system and the platform based observing 
 networks that underpin the in-situ system. Organizers encourage the articul
 ation and sharing of national implementation plans, support resource mobili
 zation by engaging at the national and regional level, promote the developm
 ent and sharing of best practices, and encourage capacity and capability de
 velopment and sharing.\nFor more information, go to:\nWebinar webpage (http
 s://b2biscience.com/activities/seminars/)\nTo join the meeting, go to:\n<a 
 href="https://zoom.us/j/99941885787?pwd=dWs0Y2t3aUx1clMreDlFR0ZDb2NDZz09" t
 arget="_blank" rel="noopener">https://zoom.us/j/99941885787?pwd=dWs0Y2t3aUx
 1clMreDlFR0ZDb2NDZz09</a>\nMeeting ID: 999 4188 5787\nPasscode: 426871\nFor
  questions, contact:\nBob Corell\nEmail: This email address is being protec
 ted from spambots. You need JavaScript enabled to view it.
				document.get
 ElementById('cloakbdd166d8966bc8f1dd6d3553d96c826c').innerHTML = '';
				va
 r prefix = '&#109;a' + 'i&#108;' + '&#116;o';
				var path = 'hr' + 'ef' + 
 '=';
				var addybdd166d8966bc8f1dd6d3553d96c826c = 'c&#111;r&#101;llr&#111
 ;b&#101;rt' + '&#64;';
				addybdd166d8966bc8f1dd6d3553d96c826c = addybdd16
 6d8966bc8f1dd6d3553d96c826c + 'gm&#97;&#105;l' + '&#46;' + 'c&#111;m';
				
 var addy_textbdd166d8966bc8f1dd6d3553d96c826c = 'c&#111;r&#101;llr&#111;b&#
 101;rt' + '&#64;' + 'gm&#97;&#105;l' + '&#46;' + 'c&#111;m';document.getEle
 mentById('cloakbdd166d8966bc8f1dd6d3553d96c826c').innerHTML += '<a ' + path
  + '\'' + prefix + ':' + addybdd166d8966bc8f1dd6d3553d96c826c + '\'>'+addy_
 textbdd166d8966bc8f1dd6d3553d96c826c+'';
		\n
X-ALT-DESC;FMTTYPE=text/html:<p style="text-align: justify;"><strong>Bermuda to Bear Island Science (B2B
 I) announces their upcoming webinar, AtlantOS, an EU Horizon 2020 Program</
 strong>. This webinar will take place <strong>Wednesday, 24 March 2021 at 1
 1:30 a.m. EDT (16:30 CET).</strong></p><p style="text-align: justify;"><str
 ong>Webinar speakers will include:</strong></p><p style="text-align: justif
 y;">Martin Visbeck (GEOMAR, Kiel, Germany),<br /> Isabel Sousa Pinto (Inter
 disciplinary Centre of Marine and Environmental Research [CIIMAR], Porto, P
 ortugal),<br /> Sandra Ketelhake (Konsortium Deutsche Meeresforschung [KDM]
 , Brussels office, Belgium), and<br /> Ann-Christine Zinkann (National Ocea
 nic and Atmospheric Administration [NOAA], USA).</p><p style="text-align: j
 ustify;"><strong>Webinar Description:</strong></p><p style="text-align: jus
 tify;">AtlantOS envisions a basin-scale observing system, sustainably resou
 rced, and efficiently operated to realize the ambition of a broad set of st
 akeholders and their need for ocean information. Specifically, it will conn
 ect scientists, policy makers, the private sector, and civil society to art
 iculate a fit-for-purpose system that delivers critical ocean information i
 n a value-added context to address the range from data capture to end produ
 cts and services.</p><p style="text-align: justify;">The practical work foc
 uses on the supporting the AtlanticBasin Scale Implementation of the Global
  Ocean Observing system and the platform based observing networks that unde
 rpin the in-situ system. Organizers encourage the articulation and sharing 
 of national implementation plans, support resource mobilization by engaging
  at the national and regional level, promote the development and sharing of
  best practices, and encourage capacity and capability development and shar
 ing.</p><p style="text-align: justify;">For more information, go to:<br /><
 a href="https://b2biscience.com/activities/seminars/" target="_blank" rel="
 noopener">Webinar webpage</a></p><p style="text-align: justify;">To join th
 e meeting, go to:<br /><a href="https://zoom.us/j/99941885787?pwd=dWs0Y2t3a
 Ux1clMreDlFR0ZDb2NDZz09" target="_blank" rel="noopener">https://zoom.us/j/9
 9941885787?pwd=dWs0Y2t3aUx1clMreDlFR0ZDb2NDZz09</a><br />Meeting ID: 999 41
 88 5787<br />Passcode: 426871</p><p style="text-align: justify;">For questi
 ons, contact:<br />Bob Corell<br />Email: <span id="cloakbdd166d8966bc8f1dd
 6d3553d96c826c">This email address is being protected from spambots. You ne
 ed JavaScript enabled to view it.</span><script type='text/javascript'>
			
 	document.getElementById('cloakbdd166d8966bc8f1dd6d3553d96c826c').innerHTML
  = '';
				var prefix = '&#109;a' + 'i&#108;' + '&#116;o';
				var path = '
 hr' + 'ef' + '=';
				var addybdd166d8966bc8f1dd6d3553d96c826c = 'c&#111;r&
 #101;llr&#111;b&#101;rt' + '&#64;';
				addybdd166d8966bc8f1dd6d3553d96c826
 c = addybdd166d8966bc8f1dd6d3553d96c826c + 'gm&#97;&#105;l' + '&#46;' + 'c&
 #111;m';
				var addy_textbdd166d8966bc8f1dd6d3553d96c826c = 'c&#111;r&#101
 ;llr&#111;b&#101;rt' + '&#64;' + 'gm&#97;&#105;l' + '&#46;' + 'c&#111;m';do
 cument.getElementById('cloakbdd166d8966bc8f1dd6d3553d96c826c').innerHTML +=
  '<a ' + path + '\'' + prefix + ':' + addybdd166d8966bc8f1dd6d3553d96c826c 
 + '\'>'+addy_textbdd166d8966bc8f1dd6d3553d96c826c+'<\/a>';
		</script></p>
DTSTAMP:20260423T023744Z
DTSTART;TZID=UTC;VALUE=DATE:20210324
DTEND;TZID=UTC;VALUE=DATE:20210325
SEQUENCE:0
TRANSP:OPAQUE
END:VEVENT
END:VCALENDAR