BEGIN:VCALENDAR
VERSION:2.0
PRODID:-//jEvents 2.0 for Joomla//EN
CALSCALE:GREGORIAN
METHOD:PUBLISH
BEGIN:VEVENT
UID:2ca4152041f441865f6bc7459234bac5
CATEGORIES:Polar Online Events
CREATED:20210310T131702
SUMMARY:ACCAP Webinar: National Weather Service Alaska Climate Outlook Briefing
LOCATION:Online
DESCRIPTION:National Weather Service Alaska Climate Outlook BriefingFriday, March 19 (1
 2pm AKDT)(https://uaf-accap.org/event/nws-march2021/) Rick Thoman,\nAlaska 
 Center for Climate Assessment and Policy (ACCAP)\nInternational Arctic Rese
 arch Center\nUniversity of Alaska Fairbanks \nThe tools and techniques for 
 making monthly and season scale climate forecasts are rapidly changing, wit
 h the potential to provide useful forecasts at the month and longer range. 
 We will review recent climate conditions around Alaska, review some forecas
 t tools and finish up the Climate Prediction Center’s forecast for April an
 d the spring/early summer season. Join the gathering online to learn more a
 bout Alaska climate and weather. More information and registration: <a href
 ="https://uaf-accap.org/event/nws-march2021/" target="_blank" rel="noopener
 ">https://uaf-accap.org/event/nws-march2021/</a>
X-ALT-DESC;FMTTYPE=text/html:<div dir="ltr"><div dir="ltr"><div dir="ltr"><div dir="ltr"><div dir="ltr">
 <div dir="ltr"><div dir="ltr"><div dir="ltr"><div dir="ltr"><div dir="ltr">
 <div dir="ltr"><div><div><div dir="ltr"><div dir="ltr"><strong>National Wea
 ther Service Alaska Climate Outlook Briefing</strong></div><div dir="ltr"><
 div style="text-align: justify;"><strong>Friday, March 19 (12pm AKDT)</stro
 ng></div><div style="text-align: justify;">(<a href="https://uaf-accap.org/
 event/nws-march2021/" target="_blank" rel="noopener">https://uaf-accap.org/
 event/nws-march2021/</a>)</div></div></div></div></div></div></div></div></
 div></div></div></div></div></div></div></div><div dir="ltr">&nbsp;</div><p
  style="text-align: justify;"><em>Rick Thoman,<br />Alaska Center for Clima
 te Assessment and Policy (ACCAP)<br />International Arctic Research Center<
 br />University of Alaska Fairbanks&nbsp;</em></p><div style="text-align: j
 ustify;"><div><div>The tools and techniques for making monthly and season s
 cale climate forecasts are rapidly changing, with the potential to provide 
 useful forecasts at the month and longer range. We will review recent clima
 te conditions around Alaska, review some forecast tools and finish up the C
 limate Prediction Center’s forecast for April and the spring/early summer s
 eason. Join the gathering online to learn more about Alaska climate and wea
 ther.</div></div></div><div style="text-align: justify;">&nbsp;</div><div s
 tyle="text-align: justify;">More information and registration: <a href="htt
 ps://uaf-accap.org/event/nws-march2021/" target="_blank" rel="noopener">htt
 ps://uaf-accap.org/event/nws-march2021/</a></div>
DTSTAMP:20260423T025040Z
DTSTART;TZID=UTC;VALUE=DATE:20210319
DTEND;TZID=UTC;VALUE=DATE:20210320
SEQUENCE:0
TRANSP:OPAQUE
END:VEVENT
END:VCALENDAR