BEGIN:VCALENDAR
VERSION:2.0
PRODID:-//jEvents 2.0 for Joomla//EN
CALSCALE:GREGORIAN
METHOD:PUBLISH
BEGIN:VEVENT
UID:de7ac47d90bb8408847876bcdc427955
CATEGORIES:Polar Online Events
CREATED:20210310T130355
SUMMARY:VAWS: From Chinooks to Santa Anas: Fire Weather in Alaska and Southern California
LOCATION:Online
DESCRIPTION:VAWS:  From Chinooks to Santa Anas: Fire Weather in Alaska and Southern Cal
 iforniaWednesday, March 17 (11am AKDT)(https://uaf-accap.org/event/vaws-mar
 ch2021/)Eric Stevens, Fire Weather Program Manager, Alaska Interagency Coor
 dination Center\nAlaska’s forests burn every year, and wildfires have consu
 med an increasing number of acres in recent decades. But Alaska is not the 
 only area experiencing this trend. Wildfires have become similarly concerni
 ng in California, with over four million acres burned during the record-set
 ting 2020 season alone. This presentation will compare the 2019 and 2020 wi
 ldfire seasons in Alaska and California from the perspective of a fire weat
 her meteorologist supporting the fire crews and land management agencies. M
 ore information and registration: <a href="https://uaf-accap.org/event/vaws
 -march2021/" target="_blank" rel="noopener">https://uaf-accap.org/event/vaw
 s-march2021/</a>
X-ALT-DESC;FMTTYPE=text/html:<div style="text-align: justify;"><strong>VAWS: &nbsp;From Chinooks to Sant
 a Anas: Fire Weather in Alaska and Southern California</strong></div><div><
 strong>Wednesday, March 17 (11am AKDT)</strong></div><div style="text-align
 : justify;">(<a href="https://uaf-accap.org/event/vaws-march2021/" target="
 _blank" rel="noopener">https://uaf-accap.org/event/vaws-march2021/</a>)</di
 v><p style="text-align: justify;"><em>Eric Stevens, Fire Weather Program Ma
 nager, Alaska Interagency Coordination Center</em></p><div style="text-alig
 n: justify;"><div><div>Alaska’s forests burn every year, and wildfires have
  consumed an increasing number of acres in recent decades. But Alaska is no
 t the only area experiencing this trend. Wildfires have become similarly co
 ncerning in California, with over four million acres burned during the reco
 rd-setting 2020 season alone. This presentation will compare the 2019 and 2
 020 wildfire seasons in Alaska and California from the perspective of a fir
 e weather meteorologist supporting the fire crews and land management agenc
 ies.</div></div></div><div style="text-align: justify;">&nbsp;</div><div st
 yle="text-align: justify;">More information and registration: <a href="http
 s://uaf-accap.org/event/vaws-march2021/" target="_blank" rel="noopener">htt
 ps://uaf-accap.org/event/vaws-march2021/</a></div>
DTSTAMP:20260423T040821Z
DTSTART;TZID=UTC;VALUE=DATE:20210317
DTEND;TZID=UTC;VALUE=DATE:20210318
SEQUENCE:0
TRANSP:OPAQUE
END:VEVENT
END:VCALENDAR