BEGIN:VCALENDAR
VERSION:2.0
PRODID:-//jEvents 2.0 for Joomla//EN
CALSCALE:GREGORIAN
METHOD:PUBLISH
BEGIN:VEVENT
UID:9626bcfe3b7694eec75365db78e82c01
CATEGORIES:Polar Conferences, Meetings and Events
CREATED:20161111T221355
SUMMARY:13th Annual Polar Technology Conference
LOCATION:Littleton\, Colorado
DESCRIPTION:Organizers announce a call for abstracts and meeting registration for\nthe 
 13th Annual Polar Technology Conference (PTC). This meeting will\nconvene 1
 1-12 April 2017 in Littleton, Colorado.\nThe PTC brings together polar scie
 ntists and technology developers to\nexchange information on research syste
 m operational needs and technology\nsolutions for polar environments. This 
 knowledge exchange helps\nscientists and engineers address issues of design
 , implementation, and\ndeployment for systems that enable scientists and ag
 encies to achieve\ntheir research goals in the polar regions.\nPresentation
 s cover system requirements for proposed research along with\ndescriptions 
 of systems and approaches proven successful in polar\ndeployments. Hardware
  and software topics include, for example, weather\nstations, robotics, pow
 er systems and storage, telemetry, and\ncommunications. Scale ranges from a
 utonomous data collection towers to\nlarge scale research stations. Polar f
 ield sites include those under,\non, and above the ice, tundra, or sea. A p
 oster session is also\nscheduled for this meeting.\nOrganizers welcome part
 icipation from academia, state and federal\nagencies, the private sector, a
 nd non-governmental organizations.\nRooms have been reserved for conference
  attendees at the Homewood Suites\nby Hilton Denver Littleton. Reservations
  can be made online.\nAbstract, session, and theme submission deadline: 28 
 March 2017.\nRegistration deadline: 5 April 2017.\nLodging reservation dead
 line: 21 March 2017.\nFor more information about the meeting, go to:\nhttps
 ://polartech.datatransport.org/.\nTo reserve lodging online, go to:\nhttp:/
 /tinyurl.com/PTC-Hilton-Lodging.\nFor questions, contact:\nTodd Valentic\nE
 mail: This email address is being protected from spambots. You need JavaScr
 ipt enabled to view it.
				document.getElementById('cloak5e220b45187acc96d
 44bdaf54e35c5a3').innerHTML = '';
				var prefix = '&#109;a' + 'i&#108;' + 
 '&#116;o';
				var path = 'hr' + 'ef' + '=';
				var addy5e220b45187acc96d4
 4bdaf54e35c5a3 = 't&#111;dd.v&#97;l&#101;nt&#105;c' + '&#64;';
				addy5e22
 0b45187acc96d44bdaf54e35c5a3 = addy5e220b45187acc96d44bdaf54e35c5a3 + 'sr&#
 105;' + '&#46;' + 'c&#111;m';
				var addy_text5e220b45187acc96d44bdaf54e35
 c5a3 = 't&#111;dd.v&#97;l&#101;nt&#105;c' + '&#64;' + 'sr&#105;' + '&#46;' 
 + 'c&#111;m';document.getElementById('cloak5e220b45187acc96d44bdaf54e35c5a3
 ').innerHTML += '<a ' + path + '\'' + prefix + ':' + addy5e220b45187acc96d4
 4bdaf54e35c5a3 + '\'>'+addy_text5e220b45187acc96d44bdaf54e35c5a3+'';
		\nJe
 ff Casper\nEmail: This email address is being protected from spambots. You 
 need JavaScript enabled to view it.
				document.getElementById('cloakacf26
 074b948b3530388d405cb3bbb68').innerHTML = '';
				var prefix = '&#109;a' + 
 'i&#108;' + '&#116;o';
				var path = 'hr' + 'ef' + '=';
				var addyacf260
 74b948b3530388d405cb3bbb68 = 'J&#101;ffr&#101;y.c&#97;sp&#101;r' + '&#64;';
 
				addyacf26074b948b3530388d405cb3bbb68 = addyacf26074b948b3530388d405cb3
 bbb68 + 'sr&#105;' + '&#46;' + 'c&#111;m';
				var addy_textacf26074b948b35
 30388d405cb3bbb68 = 'J&#101;ffr&#101;y.c&#97;sp&#101;r' + '&#64;' + 'sr&#10
 5;' + '&#46;' + 'c&#111;m';document.getElementById('cloakacf26074b948b35303
 88d405cb3bbb68').innerHTML += '<a ' + path + '\'' + prefix + ':' + addyacf2
 6074b948b3530388d405cb3bbb68 + '\'>'+addy_textacf26074b948b3530388d405cb3bb
 b68+'';
		\n
X-ALT-DESC;FMTTYPE=text/html:<p>Organizers announce a call for abstracts and meeting registration for<br
  />the 13th Annual Polar Technology Conference (PTC). This meeting will<br 
 />convene 11-12 April 2017 in Littleton, Colorado.</p><p>The PTC brings tog
 ether polar scientists and technology developers to<br />exchange informati
 on on research system operational needs and technology<br />solutions for p
 olar environments. This knowledge exchange helps<br />scientists and engine
 ers address issues of design, implementation, and<br />deployment for syste
 ms that enable scientists and agencies to achieve<br />their research goals
  in the polar regions.</p><p>Presentations cover system requirements for pr
 oposed research along with<br />descriptions of systems and approaches prov
 en successful in polar<br />deployments. Hardware and software topics inclu
 de, for example, weather<br />stations, robotics, power systems and storage
 , telemetry, and<br />communications. Scale ranges from autonomous data col
 lection towers to<br />large scale research stations. Polar field sites inc
 lude those under,<br />on, and above the ice, tundra, or sea. A poster sess
 ion is also<br />scheduled for this meeting.</p><p>Organizers welcome parti
 cipation from academia, state and federal<br />agencies, the private sector
 , and non-governmental organizations.</p><p>Rooms have been reserved for co
 nference attendees at the Homewood Suites<br />by Hilton Denver Littleton. 
 Reservations can be made online.</p><p>Abstract, session, and theme submiss
 ion deadline: 28 March 2017.</p><p>Registration deadline: 5 April 2017.</p>
 <p>Lodging reservation deadline: 21 March 2017.</p><p>For more information 
 about the meeting, go to:<br />https://polartech.datatransport.org/.</p><p>
 To reserve lodging online, go to:<br />http://tinyurl.com/PTC-Hilton-Lodgin
 g.</p><p>For questions, contact:<br />Todd Valentic<br />Email: <span id="c
 loak5e220b45187acc96d44bdaf54e35c5a3">This email address is being protected
  from spambots. You need JavaScript enabled to view it.</span><script type=
 'text/javascript'>
				document.getElementById('cloak5e220b45187acc96d44bda
 f54e35c5a3').innerHTML = '';
				var prefix = '&#109;a' + 'i&#108;' + '&#11
 6;o';
				var path = 'hr' + 'ef' + '=';
				var addy5e220b45187acc96d44bdaf
 54e35c5a3 = 't&#111;dd.v&#97;l&#101;nt&#105;c' + '&#64;';
				addy5e220b451
 87acc96d44bdaf54e35c5a3 = addy5e220b45187acc96d44bdaf54e35c5a3 + 'sr&#105;'
  + '&#46;' + 'c&#111;m';
				var addy_text5e220b45187acc96d44bdaf54e35c5a3 
 = 't&#111;dd.v&#97;l&#101;nt&#105;c' + '&#64;' + 'sr&#105;' + '&#46;' + 'c&
 #111;m';document.getElementById('cloak5e220b45187acc96d44bdaf54e35c5a3').in
 nerHTML += '<a ' + path + '\'' + prefix + ':' + addy5e220b45187acc96d44bdaf
 54e35c5a3 + '\'>'+addy_text5e220b45187acc96d44bdaf54e35c5a3+'<\/a>';
		</sc
 ript></p><p>Jeff Casper<br />Email: <span id="cloakacf26074b948b3530388d405
 cb3bbb68">This email address is being protected from spambots. You need Jav
 aScript enabled to view it.</span><script type='text/javascript'>
				docum
 ent.getElementById('cloakacf26074b948b3530388d405cb3bbb68').innerHTML = '';
 
				var prefix = '&#109;a' + 'i&#108;' + '&#116;o';
				var path = 'hr' + 
 'ef' + '=';
				var addyacf26074b948b3530388d405cb3bbb68 = 'J&#101;ffr&#101
 ;y.c&#97;sp&#101;r' + '&#64;';
				addyacf26074b948b3530388d405cb3bbb68 = a
 ddyacf26074b948b3530388d405cb3bbb68 + 'sr&#105;' + '&#46;' + 'c&#111;m';
		
 		var addy_textacf26074b948b3530388d405cb3bbb68 = 'J&#101;ffr&#101;y.c&#97;
 sp&#101;r' + '&#64;' + 'sr&#105;' + '&#46;' + 'c&#111;m';document.getElemen
 tById('cloakacf26074b948b3530388d405cb3bbb68').innerHTML += '<a ' + path + 
 '\'' + prefix + ':' + addyacf26074b948b3530388d405cb3bbb68 + '\'>'+addy_tex
 tacf26074b948b3530388d405cb3bbb68+'<\/a>';
		</script></p>
DTSTAMP:20260424T022027Z
DTSTART;TZID=UTC;VALUE=DATE:20170411
DTEND;TZID=UTC;VALUE=DATE:20170413
SEQUENCE:0
TRANSP:OPAQUE
END:VEVENT
END:VCALENDAR