BEGIN:VCALENDAR
VERSION:2.0
PRODID:-//jEvents 2.0 for Joomla//EN
CALSCALE:GREGORIAN
METHOD:PUBLISH
BEGIN:VEVENT
UID:0b93cad96dbc0370f7ed2c73320850a1
CATEGORIES:Polar Online Events
CREATED:20210223T105936
SUMMARY:Cryospheric Models useful in the High Mountain Asia (HMA)
LOCATION:Online
DESCRIPTION:Please join us for the upcoming CDHM Webinar-10 next Friday 26th,7 pm Nepal
 i Time (+5:45 GMT).\n  \nDr. Rijan Bhakta Kayastha (Kathmandu University) i
 s presenting on ‘​​Cryospheric Models useful in the High Mountain Asia (HMA
 )'.\nWe have Bikram Zoowa Shrestha (​​Department of Hydrology and Meteorolo
 gy​ and ​​Society of Hydrologists and Meteorologists-Nepal​​) as the modera
 tor, Dr. Christopher Marsh (Global Water Futures, University of Saskatchewa
 n), Dr. Santosh Nepal (ICIMOD),and Professor Tian Lide (Yunnan University) 
 as the commentators. \nDetails of the​ ​webinar are available here (http://
 www.smallearth.org.np/webinar-on-cryospheric-models/). \n​You can register 
 to the Webinar at <a href="https://t.ly/FlHl" target="_blank" rel="noopener
 ">https://t.ly/FlHl</a>.\nIf you are unable to attend but would like to​ ​r
 eceive the recording and presentation slides on cryospheric models in HMA, 
 you can still register, and we'll send them out after the webinar. If you h
 ave any questions about the webinar, please email us. Looking forward to me
 eting you in the webinar.\n
X-ALT-DESC;FMTTYPE=text/html:<p style="text-align: justify;">Please join us for the upcoming <strong>CDH
 M Webinar-10</strong> next <strong>Friday 26th,7 pm Nepali Time</strong> (+
 5:45 GMT).</p><p style="text-align: justify;">&nbsp; <br /><strong>Dr. Rija
 n Bhakta Kayastha</strong> (Kathmandu University) is presenting on ‘​​Cryos
 pheric Models useful in the High Mountain Asia (HMA)'.</p><p style="text-al
 ign: justify;">We have <strong>Bikram Zoowa Shrestha</strong> (​​Department
  of Hydrology and Meteorology​ and ​​Society of Hydrologists and Meteorolog
 ists-Nepal​​) as the moderator, <strong>Dr. Christopher Marsh</strong> (Glo
 bal Water Futures, University of Saskatchewan), <strong>Dr. Santosh Nepal</
 strong> (ICIMOD),and <strong>Professor Tian Lide</strong> (Yunnan Universit
 y) as the commentators.&nbsp;</p><p style="text-align: justify;">Details of
  the​ ​webinar are available <a href="http://www.smallearth.org.np/webinar-
 on-cryospheric-models/" target="_blank" rel="noopener">here</a>. </p><p sty
 le="text-align: justify;">​You can register to the Webinar at <a href="http
 s://t.ly/FlHl" target="_blank" rel="noopener">https://t.ly/FlHl</a>.</p><p 
 style="text-align: justify;">If you are unable to attend but would like to​
  ​receive the recording and presentation slides on&nbsp;cryospheric models 
 in HMA, you can still register, and we'll send them out after the webinar. 
 If you have any questions about the webinar, please email us. Looking forwa
 rd to meeting you in the webinar.</p>
DTSTAMP:20260423T003835Z
DTSTART;TZID=UTC;VALUE=DATE:20210226
DTEND;TZID=UTC;VALUE=DATE:20210227
SEQUENCE:0
TRANSP:OPAQUE
END:VEVENT
END:VCALENDAR