BEGIN:VCALENDAR
VERSION:2.0
PRODID:-//jEvents 2.0 for Joomla//EN
CALSCALE:GREGORIAN
METHOD:PUBLISH
BEGIN:VEVENT
UID:8cb7ea2b3b854727948f3552c6b24783
CATEGORIES:Polar Online Events
CREATED:20210203T072456
SUMMARY:PYRN Seminar Series
LOCATION:Online
DESCRIPTION:Dear PYRN colleagues - hello - join us on February 8th at 11:00 am EST (17:
 00 CET) for this years first seminar series!\n\nWe have 3 fantastic speaker
 s who are excited to present their research: \n1. Josefine Walz, “Year-roun
 d CO2 flux partitioning from snow covered Arctic ecosystems”\n2. Sebastián 
 Ruiz Pereira, “Frozen ground and landscape evolution in the central Andes”\
 n3. Mishélle Wehbe, “Estimation of water equivalent storage within rock gla
 ciers in Banff National Park” \n \nTo register, fill out the google form (h
 ttps://docs.google.com/forms/d/e/1FAIpQLSd2PKm_vu1o4eYJa6pugJ6uyKBmTY7TyUd4
 0-FsPA63piB4Uw/viewform) and we’ll send you the zoom link. \nTHANKS!\n
X-ALT-DESC;FMTTYPE=text/html:<p>Dear PYRN colleagues - hello - join us on <strong>February 8th at 11:00 
 am EST (17:00 CET)</strong> for this years first seminar series!</p><p><br 
 />We have <strong>3 fantastic speakers</strong> who are excited to present 
 their research:&nbsp;</p><p class="m_6298257125627659355acymwysidtinymce--t
 ext--placeholder">1. Josefine Walz, “Year-round CO2 flux partitioning from 
 snow covered Arctic ecosystems”</p><p class="m_6298257125627659355acymwysid
 tinymce--text--placeholder">2. Sebastián Ruiz Pereira, “Frozen ground and l
 andscape evolution in the central Andes”</p><p class="m_6298257125627659355
 acymwysidtinymce--text--placeholder">3. Mishélle Wehbe, “Estimation of wate
 r equivalent storage within rock glaciers in Banff National Park”&nbsp;</p>
 <p>&nbsp;</p><p class="m_6298257125627659355acymwysidtinymce--text--placeho
 lder">To register, fill out the <a href="https://docs.google.com/forms/d/e/
 1FAIpQLSd2PKm_vu1o4eYJa6pugJ6uyKBmTY7TyUd40-FsPA63piB4Uw/viewform" target="
 _blank" rel="noopener">google form</a> and we’ll send you the zoom link. </
 p><p class="m_6298257125627659355acymwysidtinymce--text--placeholder">THANK
 S!</p>
DTSTAMP:20260423T035821Z
DTSTART;TZID=UTC;VALUE=DATE:20210208
DTEND;TZID=UTC;VALUE=DATE:20210209
SEQUENCE:0
TRANSP:OPAQUE
END:VEVENT
END:VCALENDAR