BEGIN:VCALENDAR
VERSION:2.0
PRODID:-//jEvents 2.0 for Joomla//EN
CALSCALE:GREGORIAN
METHOD:PUBLISH
BEGIN:VEVENT
UID:36a7a79af0a03d59c63ebf61005b8892
CATEGORIES:Polar Conferences, Meetings and Events
CREATED:20210202T121642
SUMMARY:Soapbox Science Berlin 2021
LOCATION:Berlin
DESCRIPTION:'Science ... teaches people to accept reality, with wonder and admiration..
 .' (Lise Meitner, physicist)\n \nAre you a woman* in STEMM (Science, Techno
 logy, Engineering, Mathematics and Medicine) and passionate about your scie
 nce?\nHave you been waiting for that perfect opportunity to talk to people 
 about your work?\nWant to receive training in science communication?\n \nTh
 en Soapbox Science Berlin is waiting for you. Apply (http://soapboxscience.
 org/apply-to-speak-at-soapbox-science-2021/) now to be one of our 12 speake
 rs. Deadline 28th February! \nSoapbox Science is a novel public outreach pl
 atform and our events transform public areas into an arena for public learn
 ing and scientific debate. Further, we explicitly engage women* as we want 
 to promote the visibility of women* in science. Take a look at these links 
 to learn more about us and what we do:\n<a href="https://www.youtube.com/wa
 tch?v=cGD1-FbXHZo&amp;feature=youtu.be" target="_blank" rel="noopener">What
  is Soapbox Science?</a>\nMy experience as a Soapbox Science speaker (https
 ://twitter.com/SoapboxScience/status/1220298117347790848)\n<a href="http://
 soapboxscience.org/berlin-local-organising-team/" target="_blank" rel="noop
 ener">Berlin Local Organising Team</a>\nOur event will take place on the 26
 th of June 2021 between 2 - 5pm at Washington Platz by Berlin Central Stati
 on (Hauptbahnhof). \nWe are very hopeful that despite the pandemic, circums
 tances will allow for the event to happen in public but keep in mind that t
 his might be subject to change. \n We will communicate any changes to the e
 vent should this be necessary.\n \n We are looking forward to receiving you
 r submissions and if you have any questions, please feel free to reach out!
 \nYour Soapbox Science Berlin Team\nCarolina Doran · Marta Alirangues · Ana
  Alonso-Serrano · Betty Noriega-Ortega · Julia Lorenz · Franziska Sattler ·
  Franziska Stressmann · Alice Di Tucci · Dubravka Vucicevic · Franziska Ell
 en Walther · Florencia Yannelli\n \nFacebook: @soapboxscienceberlin (https:
 //www.facebook.com/soapboxscienceberlin/)\nTwitter: <a href="https://twitte
 r.com/berlin_soapbox" target="_blank" rel="noopener">@berlin_soapbox</a>\nI
 nstagram: soapboxscience.berlin (https://www.instagram.com/soapboxscience.b
 erlin/)\nDo you want to know more about Soapbox Science? Check out our shor
 t videos: <a href="https://www.youtube.com/watch?v=wmBj_H0ub_w&amp;feature=
 youtu.be" target="_blank" rel="noopener">EN</a>\n*We particularly encourage
  the participation of trans and genderqueer women, non-binary people, refug
 ees, and people with disabilities, that for the purpose of this event feel 
 comfortable being fem-identified. Don't hesitate to contact us with any que
 stions you may have, including but not limited to: accessibility needs or c
 oncerns about discrimination acts while in the spotlight. We will work toge
 ther to make sure that you can present your work comfortably and safely.\n
X-ALT-DESC;FMTTYPE=text/html:<p>'Science ... teaches people to accept reality, with wonder and admiratio
 n...' (<em>Lise Meitner, physicist)</em></p><p>&nbsp;</p><p>Are you a woman
 * in STEMM (Science, Technology, Engineering, Mathematics and Medicine) and
  passionate about your science?</p><p>Have you been waiting for that perfec
 t opportunity to talk to people about your work?</p><p>Want to receive trai
 ning in science communication?</p><p>&nbsp;</p><p>Then <strong>Soapbox Scie
 nce Berlin</strong> is waiting for you. <a href="http://soapboxscience.org/
 apply-to-speak-at-soapbox-science-2021/" target="_blank" rel="noopener">App
 ly</a> now to be one of our 12 speakers. <strong>Deadline 28th February!&nb
 sp;</strong></p><p>Soapbox Science is a novel public outreach platform and 
 our events transform public areas into an arena for public learning and sci
 entific debate. Further, we explicitly engage women* as we want to promote 
 the visibility of women* in science. Take a look at these links to learn mo
 re about us and what we do:</p><p><a href="https://www.youtube.com/watch?v=
 cGD1-FbXHZo&amp;feature=youtu.be" target="_blank" rel="noopener">What is So
 apbox Science?</a></p><p><a href="https://twitter.com/SoapboxScience/status
 /1220298117347790848" target="_blank" rel="noopener">My experience as a Soa
 pbox Science speaker</a></p><p><a href="http://soapboxscience.org/berlin-lo
 cal-organising-team/" target="_blank" rel="noopener">Berlin Local Organisin
 g Team</a></p><p>Our event will take place on the <strong>26th of June 2021
  between 2 - 5pm at Washington Platz</strong> by <strong>Berlin Central Sta
 tion (Hauptbahnhof)</strong>.&nbsp;</p><p>We are very hopeful that despite 
 the pandemic, circumstances will allow for the event to happen in public bu
 t keep in mind that this might be subject to change. <br /> We will communi
 cate any changes to the event should this be necessary.<br /> <br /> We are
  looking forward to receiving your submissions and if you have any question
 s, please <strong>feel free to reach out!</strong></p><p>Your Soapbox Scien
 ce Berlin Team</p><p>Carolina Doran · Marta Alirangues · Ana Alonso-Serrano
  · Betty Noriega-Ortega · Julia Lorenz · Franziska Sattler · Franziska Stre
 ssmann · Alice Di Tucci · Dubravka Vucicevic · Franziska Ellen Walther · Fl
 orencia Yannelli</p><p>&nbsp;</p><p>Facebook: <a href="https://www.facebook
 .com/soapboxscienceberlin/" target="_blank" rel="noopener">@soapboxscienceb
 erlin</a></p><p>Twitter: <a href="https://twitter.com/berlin_soapbox" targe
 t="_blank" rel="noopener">@berlin_soapbox</a></p><p>Instagram: <a href="htt
 ps://www.instagram.com/soapboxscience.berlin/" target="_blank" rel="noopene
 r">soapboxscience.berlin</a></p><p>Do you want to know more about Soapbox S
 cience? Check out our <strong>short videos</strong>: <a href="https://www.y
 outube.com/watch?v=wmBj_H0ub_w&amp;feature=youtu.be" target="_blank" rel="n
 oopener">EN</a></p><p style="text-align: justify;">*We particularly encoura
 ge the participation of trans and genderqueer women, non-binary people, ref
 ugees, and people with disabilities, that for the purpose of this event fee
 l comfortable being fem-identified. Don't hesitate to contact us with any q
 uestions you may have, including but not limited to: accessibility needs or
  concerns about discrimination acts while in the spotlight. We will work to
 gether to make sure that you can present your work comfortably and safely.<
 /p>
DTSTAMP:20260423T035751Z
DTSTART;TZID=UTC:20210626T120000
DTEND;TZID=UTC:20210626T150000
SEQUENCE:0
TRANSP:OPAQUE
END:VEVENT
END:VCALENDAR