BEGIN:VCALENDAR
VERSION:2.0
PRODID:-//jEvents 2.0 for Joomla//EN
CALSCALE:GREGORIAN
METHOD:PUBLISH
BEGIN:VEVENT
UID:b9722f0809a2b807711493bb6c385f69
CATEGORIES:Polar Online Events
CREATED:20210129T065948
SUMMARY:vEGU21 - EGU General Assembly 2021
LOCATION:Online
DESCRIPTION:vEGU21: Gather Online | 19–30 April 2021\nThe EGU General Assembly 2021 (ht
 tps://www.egu21.eu/) will bring together geoscientists from all over the wo
 rld to one meeting covering all disciplines of the Earth, planetary, and sp
 ace sciences. The EGU aims to provide a forum where scientists, especially 
 early career researchers, can present their work and discuss their ideas wi
 th experts in all fields of geoscience. The EGU is looking forward to cordi
 ally welcoming you at its General Assembly.\n<a href="https://www.egu21.eu/
 register.html" target="_blank" rel="noopener">Registration</a> is open.\n
X-ALT-DESC;FMTTYPE=text/html:<p><strong>vEGU21: Gather Online | 19–30 April 2021</strong></p><p>The <a h
 ref="https://www.egu21.eu/" target="_blank" rel="noopener">EGU General Asse
 mbly 2021</a> will bring together geoscientists from all over the world to 
 one meeting covering all disciplines of the Earth, planetary, and space sci
 ences. The EGU aims to provide a forum where scientists, especially early c
 areer researchers, can present their work and discuss their ideas with expe
 rts in all fields of geoscience. The EGU is looking forward to cordially we
 lcoming you at its General Assembly.</p><p><a href="https://www.egu21.eu/re
 gister.html" target="_blank" rel="noopener">Registration</a> is open.</p>
DTSTAMP:20260422T170102Z
DTSTART;TZID=UTC;VALUE=DATE:20210419
DTEND;TZID=UTC;VALUE=DATE:20210501
SEQUENCE:0
TRANSP:OPAQUE
END:VEVENT
END:VCALENDAR