BEGIN:VCALENDAR
VERSION:2.0
PRODID:-//jEvents 2.0 for Joomla//EN
CALSCALE:GREGORIAN
METHOD:PUBLISH
BEGIN:VEVENT
UID:44e5c612df48542692d0886dc11803cd
CATEGORIES:Polar Online Events
CREATED:20210127T081334
SUMMARY:Arctic Research Seminar Series
LOCATION:Online
DESCRIPTION:The Arctic Research Consortium of the U.S. (ARCUS) invites registration for
  the next Arctic Research Seminar featuring Kent Moore, Professor of Physic
 s and Vice-Principal Research at the University of Toronto Mississauga. Dr.
  Moore’s presentation, titled Anomalous Collapses of Nares Strait Ice Arche
 s Leads to Enhanced Export of Arctic Sea Ice, will be held via Zoom on Tues
 day, 16 February 2021 at 9:00 a.m. AKST (1:00 p.m. EST).\nSeminar Abstract:
 \nThe ice arches that usually develop at the northern and southern ends of 
 Nares Strait play an important role in modulating the export of multi-year 
 sea ice out of the Arctic Ocean.  As a result of global warming, the Arctic
  Ocean is evolving towards an ice pack that is younger, thinner, and more m
 obile and the fate of its multi-year ice is becoming of increasing interest
  to both the scientific and policy communities. Here, we use sea ice motion
  retrievals derived from Sentinel-1 imagery to report on recent behaviour o
 f these ice arches and the associated ice flux. In addition to the previous
 ly identified early collapse of the northern ice arch in May 2017, we repor
 t that this arch failed to develop during the winters of 2018 and 2019. In 
 contrast, we report that the southern ice arch was only present for a short
  period of time during the winter of 2018 as well as for a more extended pe
 riod during the winter of 2020. We also show that the duration of arch form
 ation has decreased over the past 20 years as ice in the region has thinned
 , while the ice area and volume fluxes have both increased. These results s
 uggest that a transition is underway towards a state where the formation of
  these arches will become atypical with a concomitant increase in the expor
 t of multi-year ice accelerating the transition towards a younger and thinn
 er Arctic ice pack.\n is required for this event. Instructions for accessin
 g the webinar will be sent to registrants prior to the event.\nTo register 
 for the event, go to:\n<a href="https://www.arcus.org/civicrm/mailing/url?u
 =27309&amp;qid=4687300" rel="nofollow">Arctic Research Seminar Series webpa
 ge</a>\nFor questions, contact:\nStacey Stoudt\nEmail: This email address i
 s being protected from spambots. You need JavaScript enabled to view it.
		
 		document.getElementById('cloakb167b7355077d446e445984c77395ef4').innerHTM
 L = '';
				var prefix = '&#109;a' + 'i&#108;' + '&#116;o';
				var path = 
 'hr' + 'ef' + '=';
				var addyb167b7355077d446e445984c77395ef4 = 'st&#97;c
 &#101;y' + '&#64;';
				addyb167b7355077d446e445984c77395ef4 = addyb167b735
 5077d446e445984c77395ef4 + '&#97;rc&#117;s' + '&#46;' + '&#111;rg';
				var
  addy_textb167b7355077d446e445984c77395ef4 = 'st&#97;c&#101;y' + '&#64;' + 
 '&#97;rc&#117;s' + '&#46;' + '&#111;rg';document.getElementById('cloakb167b
 7355077d446e445984c77395ef4').innerHTML += '<a ' + path + '\'' + prefix + '
 :' + addyb167b7355077d446e445984c77395ef4 + '\'>'+addy_textb167b7355077d446
 e445984c77395ef4+'';
		\n
X-ALT-DESC;FMTTYPE=text/html:<p>The Arctic Research Consortium of the U.S. (ARCUS) invites registration 
 for the next Arctic Research Seminar featuring Kent Moore, Professor of Phy
 sics and Vice-Principal Research at the University of Toronto Mississauga. 
 Dr. Moore’s presentation, titled&nbsp;<em>Anomalous Collapses of Nares Stra
 it Ice Arches Leads to Enhanced Export of Arctic Sea Ice,</em>&nbsp;will be
  held via Zoom on <strong>Tuesday, 16 February 2021 at 9:00 a.m. AKST (1:00
  p.m. EST)</strong>.</p><p><strong>Seminar Abstract:</strong></p><p>The ice
  arches that usually develop at the northern and southern ends of Nares Str
 ait play an important role in modulating the export of multi-year sea ice o
 ut of the Arctic Ocean.&nbsp; As a result of global warming, the Arctic Oce
 an is evolving towards an ice pack that is younger, thinner, and more mobil
 e and the fate of its multi-year ice is becoming of increasing interest to 
 both the scientific and policy communities. Here, we use sea ice motion ret
 rievals derived from Sentinel-1 imagery to report on recent behaviour of th
 ese ice arches and the associated ice flux. In addition to the previously i
 dentified early collapse of the northern ice arch in May 2017, we report th
 at this arch failed to develop during the winters of 2018 and 2019. In cont
 rast, we report that the southern ice arch was only present for a short per
 iod of time during the winter of 2018 as well as for a more extended period
  during the winter of 2020. We also show that the duration of arch formatio
 n has decreased over the past 20 years as ice in the region has thinned, wh
 ile the ice area and volume fluxes have both increased. These results sugge
 st that a transition is underway towards a state where the formation of the
 se arches will become atypical with a concomitant increase in the export of
  multi-year ice accelerating the transition towards a younger and thinner A
 rctic ice pack.</p><p><a href="https://www.arcus.org/civicrm/mailing/url?u=
 27309&amp;qid=4687300" rel="nofollow">Registration</a>&nbsp;is required for
  this event. Instructions for accessing the webinar will be sent to registr
 ants prior to the event.</p><p>To register for the event, go to:<br /><a hr
 ef="https://www.arcus.org/civicrm/mailing/url?u=27309&amp;qid=4687300" rel=
 "nofollow">Arctic Research Seminar Series webpage</a></p><p>For questions, 
 contact:<br />Stacey Stoudt<br />Email: <span id="cloakb167b7355077d446e445
 984c77395ef4">This email address is being protected from spambots. You need
  JavaScript enabled to view it.</span><script type='text/javascript'>
				d
 ocument.getElementById('cloakb167b7355077d446e445984c77395ef4').innerHTML =
  '';
				var prefix = '&#109;a' + 'i&#108;' + '&#116;o';
				var path = 'hr
 ' + 'ef' + '=';
				var addyb167b7355077d446e445984c77395ef4 = 'st&#97;c&#1
 01;y' + '&#64;';
				addyb167b7355077d446e445984c77395ef4 = addyb167b735507
 7d446e445984c77395ef4 + '&#97;rc&#117;s' + '&#46;' + '&#111;rg';
				var ad
 dy_textb167b7355077d446e445984c77395ef4 = 'st&#97;c&#101;y' + '&#64;' + '&#
 97;rc&#117;s' + '&#46;' + '&#111;rg';document.getElementById('cloakb167b735
 5077d446e445984c77395ef4').innerHTML += '<a ' + path + '\'' + prefix + ':' 
 + addyb167b7355077d446e445984c77395ef4 + '\'>'+addy_textb167b7355077d446e44
 5984c77395ef4+'<\/a>';
		</script></p>
DTSTAMP:20260423T035824Z
DTSTART;TZID=UTC:20210216T090000
SEQUENCE:0
TRANSP:OPAQUE
END:VEVENT
END:VCALENDAR