BEGIN:VCALENDAR
VERSION:2.0
PRODID:-//jEvents 2.0 for Joomla//EN
CALSCALE:GREGORIAN
METHOD:PUBLISH
BEGIN:VEVENT
UID:c2722176f9dac9344fafbd8bd9e6cd20
CATEGORIES:Polar Online Events
CREATED:20210126T211407
SUMMARY:Online Conference: Disturbance and recovery of terrestrial arctic and boreal ecosystems
LOCATION:Online
DESCRIPTION:We invite you to attend a 3-day online conference with the theme: “Disturba
 nce and recovery of terrestrial arctic and boreal ecosystems” hosted by Sco
 tt Polar Research Institute, British Antarctic Survey, M.V.Lomonosov Moscow
  State University, Institute of Space Research and Institute of Geography, 
 Russian Academy of Sciences.\nThe conference will be from Wednesday 10th to
  Friday 12th February, 09:00-15:00 GMT / 12:00-18:00 MSK and will be held v
 ia Zoom with accompanied simultaneous translation in Russian and English (d
 etails to be circulated to registered participants in due course).  Further
  details for the conference can be found on our Eventbrite event page (http
 s://www.eventbrite.co.uk/e/online-conference-10th-12th-february-2021-regist
 ration-135700950195).  \nPlease register via the Eventbrite link before Mon
 day 1st February 2021: <a href="https://www.eventbrite.co.uk/e/online-confe
 rence-10th-12th-february-2021-registration-135700950195" target="_blank" re
 l="noopener noreferrer" data-auth="NotApplicable">Eventbrite event page</a>
  and feel free to distribute this invitation to anyone that you think may b
 e interested.\nWe look forward to welcoming you to this event. \n
X-ALT-DESC;FMTTYPE=text/html:<div><p>We invite you to attend a 3-day online&nbsp;conference&nbsp;with th
 e theme:&nbsp;<em>“Disturbance and recovery of terrestrial arctic and borea
 l ecosystems”</em><em>&nbsp;</em>hosted by Scott Polar Research Institute, 
 British Antarctic Survey, M.V.Lomonosov Moscow State University, Institute 
 of Space Research and Institute of Geography, Russian Academy of Sciences.<
 /p><p>The&nbsp;conference&nbsp;will be from&nbsp;<strong>Wednesday 10</stro
 ng><strong><sup>th</sup>&nbsp;</strong><strong>to Friday 12</strong><strong
 ><sup>th</sup>&nbsp;</strong><strong>February, 09:00-15:00 GMT / 12:00-18:0
 0 MSK</strong><strong>&nbsp;</strong>and will be held via Zoom with accompa
 nied simultaneous translation in Russian and English&nbsp;(details to be ci
 rculated to registered participants in due course)<strong>.&nbsp;&nbsp;</st
 rong>Further details for the&nbsp;conference&nbsp;can be found on our&nbsp;
 <strong><a href="https://www.eventbrite.co.uk/e/online-conference-10th-12th
 -february-2021-registration-135700950195" target="_blank" rel="noopener nor
 eferrer" data-auth="NotApplicable">Eventbrite event page</a>.</strong>&nbsp
 ; </p><p>Please register via the Eventbrite link before&nbsp;<strong>Monday
  1</strong><strong><sup>st</sup>&nbsp;</strong><strong>February 2021</stron
 g>:&nbsp;<a href="https://www.eventbrite.co.uk/e/online-conference-10th-12t
 h-february-2021-registration-135700950195" target="_blank" rel="noopener no
 referrer" data-auth="NotApplicable"><strong>Eventbrite event page</strong><
 /a>&nbsp;and&nbsp;feel free to distribute this invitation to anyone that yo
 u think may be interested.</p></div><div><p>We look forward to welcoming yo
 u to this event.&nbsp;</p></div>
DTSTAMP:20260423T035802Z
DTSTART;TZID=UTC;VALUE=DATE:20210210
DTEND;TZID=UTC;VALUE=DATE:20210213
SEQUENCE:0
TRANSP:OPAQUE
END:VEVENT
END:VCALENDAR