BEGIN:VCALENDAR
VERSION:2.0
PRODID:-//jEvents 2.0 for Joomla//EN
CALSCALE:GREGORIAN
METHOD:PUBLISH
BEGIN:VEVENT
UID:11c612786d43556c33f63c536fb198ad
CATEGORIES:Polar Online Events
CREATED:20210126T083547
SUMMARY:Virtual 2021 Western Snow Conference
LOCATION:Online
DESCRIPTION:Please join us on April 12–15, 2021 for the 88th annual meeting of the West
 ern Snow Conference, which will be held virtually using the WebEx Meeting p
 latform.  The North Continental planning team is hard at work developing a 
 program that is varied and allows personal interactions with vendors and au
 thors. \n\nThere are still slots available for abstract submissions, but ti
 me is running out!  You are invited to submit an abstract of 150 – 300 word
 s for either oral or poster presentation by January 31, 2021. Submit abstra
 cts by filling out the online submission form at:\n \n<a href="https://form
 s.gle/gxZBusVB4Y28TiYs8">https://forms.gle/gxZBusVB4Y28TiYs8</a>\n  \nThe t
 heme for the 2021 Western Snow Conference is "Bridging the Gap between Rese
 arch and Operations", however, all snow-related research in the context of 
 measurements, modeling, and water supply are welcome. Keeping in line with 
 the conference theme, papers involving connections between research and ope
 rations will be given priority. Papers accepted for presentation at the can
 celed 2020 Western Snow Conference will also be given priority.  In additio
 n to poster and paper presentations, a Monday short course is being planned
  entitled "A Round Table to Bridge the Research-Operations Divide", led by 
 Dr. Sean Fleming (USDA-NRCS NWCC). \n\nPlease share this Call for Papers an
 d Conference Announcement with colleagues, students and friends who may be 
 interested. The virtual format this year provides a unique opportunity to i
 ncrease participation, particularly among those who would otherwise be unab
 le to attend due to financial, geographic, or time constraints.\n\nSupport 
 Your WESTERN SNOW CONFERENCE !!!!!!\n\nIn spite of all of us being tired of
  screen watching, the WSC needs your participation in this year’s meeting! 
 Snow science and water management practitioners and researchers need a stro
 ng and healthy WSC, so we need your participation and contributions. \n\nPl
 ease check our website for updated information: \n<a href="https://westerns
 nowconference.org/meeting/2021">https://westernsnowconference.org/meeting/2
 021</a> or email  (mailto:westernsnowconference@gmail.com)This email addres
 s is being protected from spambots. You need JavaScript enabled to view it.
 
				document.getElementById('cloakf4643ec794abb5712527791f6b69b930').inner
 HTML = '';
				var prefix = '&#109;a' + 'i&#108;' + '&#116;o';
				var path
  = 'hr' + 'ef' + '=';
				var addyf4643ec794abb5712527791f6b69b930 = 'w&#10
 1;st&#101;rnsn&#111;wc&#111;nf&#101;r&#101;nc&#101;' + '&#64;';
				addyf46
 43ec794abb5712527791f6b69b930 = addyf4643ec794abb5712527791f6b69b930 + 'gm&
 #97;&#105;l' + '&#46;' + 'c&#111;m';
				var addy_textf4643ec794abb57125277
 91f6b69b930 = 'w&#101;st&#101;rnsn&#111;wc&#111;nf&#101;r&#101;nc&#101;' + 
 '&#64;' + 'gm&#97;&#105;l' + '&#46;' + 'c&#111;m';document.getElementById('
 cloakf4643ec794abb5712527791f6b69b930').innerHTML += '<a ' + path + '\'' + 
 prefix + ':' + addyf4643ec794abb5712527791f6b69b930 + '\'>'+addy_textf4643e
 c794abb5712527791f6b69b930+'';
		 or the chairs listed below if you have qu
 estions.\n\nPlease plan to contribute a paper, and to attend our unique 88t
 h Annual Conference!\n \nThink Snow!\n \n \nNoah Molotch                   
                           Lucas Zukiewicz\nGeneral Chair - WSC             
                      Conference Chair\n<a href="mailto:noah.molotch@colorad
 o.edu" target="_blank" rel="noopener noreferrer" data-auth="NotApplicable">
 </a>This email address is being protected from spambots. You need JavaScrip
 t enabled to view it.
				document.getElementById('cloake5b4d7c75371dabf446
 30e09668d9e59').innerHTML = '';
				var prefix = '&#109;a' + 'i&#108;' + '&
 #116;o';
				var path = 'hr' + 'ef' + '=';
				var addye5b4d7c75371dabf4463
 0e09668d9e59 = 'n&#111;&#97;h.m&#111;l&#111;tch' + '&#64;';
				addye5b4d7c
 75371dabf44630e09668d9e59 = addye5b4d7c75371dabf44630e09668d9e59 + 'c&#111;
 l&#111;r&#97;d&#111;' + '&#46;' + '&#101;d&#117;';
				var addy_texte5b4d7c
 75371dabf44630e09668d9e59 = 'n&#111;&#97;h.m&#111;l&#111;tch' + '&#64;' + '
 c&#111;l&#111;r&#97;d&#111;' + '&#46;' + '&#101;d&#117;';document.getElemen
 tById('cloake5b4d7c75371dabf44630e09668d9e59').innerHTML += '<a ' + path + 
 '\'' + prefix + ':' + addye5b4d7c75371dabf44630e09668d9e59 + '\'>'+addy_tex
 te5b4d7c75371dabf44630e09668d9e59+'';
		                    (mailto:lucas.z
 ukiewicz@usda.gov)This email address is being protected from spambots. You 
 need JavaScript enabled to view it.
				document.getElementById('cloak0b2b9
 ec0bb75cd3ab179982f1e73a23e').innerHTML = '';
				var prefix = '&#109;a' + 
 'i&#108;' + '&#116;o';
				var path = 'hr' + 'ef' + '=';
				var addy0b2b9e
 c0bb75cd3ab179982f1e73a23e = 'l&#117;c&#97;s.z&#117;k&#105;&#101;w&#105;cz'
  + '&#64;';
				addy0b2b9ec0bb75cd3ab179982f1e73a23e = addy0b2b9ec0bb75cd3a
 b179982f1e73a23e + '&#117;sd&#97;' + '&#46;' + 'g&#111;v';
				var addy_tex
 t0b2b9ec0bb75cd3ab179982f1e73a23e = 'l&#117;c&#97;s.z&#117;k&#105;&#101;w&#
 105;cz' + '&#64;' + '&#117;sd&#97;' + '&#46;' + 'g&#111;v';document.getElem
 entById('cloak0b2b9ec0bb75cd3ab179982f1e73a23e').innerHTML += '<a ' + path 
 + '\'' + prefix + ':' + addy0b2b9ec0bb75cd3ab179982f1e73a23e + '\'>'+addy_t
 ext0b2b9ec0bb75cd3ab179982f1e73a23e+'';
		\n \n
X-ALT-DESC;FMTTYPE=text/html:<p>Please join us on <strong>April 12–15, 2021</strong> for the <strong>88t
 h annual meeting of the Western Snow Conference</strong>, which will be hel
 d <strong>virtually using the WebEx Meeting platform</strong>. &nbsp;The No
 rth Continental planning team is hard at work developing a program that is 
 varied and allows personal interactions with vendors and authors.&nbsp;<br 
 /><br />There are still slots available for abstract submissions, but&nbsp;
 <strong><em>time is running out!&nbsp;</em></strong>&nbsp;You are invited t
 o <span style="text-decoration: underline;"><strong>submit an abstract of 1
 50 – 300 words</strong></span> for either oral or poster presentation by <s
 trong>January 31, 2021</strong>. Submit abstracts by filling out the online
  submission form at:<br />&nbsp;<br /><strong><a href="https://urldefense.c
 om/v3/__https://westernsnowconference.us14.list-manage.com/track/click?u=3c
 120a27c3550b9af6a6bb283&amp;id=a0eb063eb7&amp;e=8e9f760da8__;!!JYXjzlvb!wjK
 B8uwPtkuhkXHOcyhLm_4pvGx0rfrs2pp8dTOjLccOhAl1ab4bjX95tGYtXD8$" target="_bla
 nk" rel="noopener noreferrer" data-auth="NotApplicable"></a><a href="https:
 //forms.gle/gxZBusVB4Y28TiYs8">https://forms.gle/gxZBusVB4Y28TiYs8</a></str
 ong><br />&nbsp;&nbsp;<br />The theme for the 2021 Western Snow Conference 
 is "<em><strong>Bridging the Gap between Research and Operations</strong></
 em>", however, all snow-related research in the context of measurements, mo
 deling, and water supply are welcome. Keeping in line with the conference t
 heme, papers involving connections between research and operations will be 
 given priority. Papers accepted for presentation at the canceled 2020 Weste
 rn Snow Conference will also be given priority. &nbsp;In addition to poster
  and paper presentations, a Monday short course is being planned entitled "
 A Round Table to Bridge the Research-Operations Divide", led by Dr. Sean Fl
 eming (USDA-NRCS NWCC).&nbsp;<br /><br />Please share this Call for Papers 
 and Conference Announcement with colleagues, students and friends who may b
 e interested. The virtual format this year provides a unique opportunity to
  increase participation, particularly among those who would otherwise be un
 able to attend due to financial, geographic, or time constraints.<br /><br 
 />Support Your WESTERN SNOW CONFERENCE !!!!!!<br /><br />In spite of all of
  us being tired of screen watching, the WSC needs your participation in thi
 s year’s meeting! Snow science and water management practitioners and resea
 rchers need a strong and healthy WSC, so we need your participation and con
 tributions.&nbsp;<br /><br />Please check our website for updated informati
 on:&nbsp;<br /><a href="https://urldefense.com/v3/__https://westernsnowconf
 erence.us14.list-manage.com/track/click?u=3c120a27c3550b9af6a6bb283&amp;id=
 48460ef9f3&amp;e=8e9f760da8__;!!JYXjzlvb!wjKB8uwPtkuhkXHOcyhLm_4pvGx0rfrs2p
 p8dTOjLccOhAl1ab4bjX952fTAVEw$" target="_blank" rel="noopener noreferrer" d
 ata-auth="NotApplicable"></a><a href="https://westernsnowconference.org/mee
 ting/2021">https://westernsnowconference.org/meeting/2021</a>&nbsp;or email
 &nbsp;<a href="mailto:westernsnowconference@gmail.com" target="_blank" rel=
 "noopener noreferrer" data-auth="NotApplicable"></a><span id="cloakf4643ec7
 94abb5712527791f6b69b930">This email address is being protected from spambo
 ts. You need JavaScript enabled to view it.</span><script type='text/javasc
 ript'>
				document.getElementById('cloakf4643ec794abb5712527791f6b69b930')
 .innerHTML = '';
				var prefix = '&#109;a' + 'i&#108;' + '&#116;o';
				va
 r path = 'hr' + 'ef' + '=';
				var addyf4643ec794abb5712527791f6b69b930 = 
 'w&#101;st&#101;rnsn&#111;wc&#111;nf&#101;r&#101;nc&#101;' + '&#64;';
				a
 ddyf4643ec794abb5712527791f6b69b930 = addyf4643ec794abb5712527791f6b69b930 
 + 'gm&#97;&#105;l' + '&#46;' + 'c&#111;m';
				var addy_textf4643ec794abb57
 12527791f6b69b930 = 'w&#101;st&#101;rnsn&#111;wc&#111;nf&#101;r&#101;nc&#10
 1;' + '&#64;' + 'gm&#97;&#105;l' + '&#46;' + 'c&#111;m';document.getElement
 ById('cloakf4643ec794abb5712527791f6b69b930').innerHTML += '<a ' + path + '
 \'' + prefix + ':' + addyf4643ec794abb5712527791f6b69b930 + '\'>'+addy_text
 f4643ec794abb5712527791f6b69b930+'<\/a>';
		</script>&nbsp;or the chairs li
 sted below if you have questions.<br /><br />Please plan to contribute a pa
 per, and to attend our unique 88th Annual Conference!<br />&nbsp;<br />Thin
 k Snow!<br />&nbsp;<br />&nbsp;<br />Noah Molotch&nbsp; &nbsp; &nbsp; &nbsp
 ; &nbsp; &nbsp; &nbsp; &nbsp; &nbsp; &nbsp; &nbsp; &nbsp; &nbsp; &nbsp; &nb
 sp; &nbsp; &nbsp; &nbsp; &nbsp; &nbsp; &nbsp; &nbsp; &nbsp;Lucas Zukiewicz<
 br />General Chair - WSC&nbsp; &nbsp; &nbsp; &nbsp; &nbsp; &nbsp; &nbsp; &n
 bsp; &nbsp; &nbsp; &nbsp; &nbsp; &nbsp; &nbsp; &nbsp; &nbsp; &nbsp; Confere
 nce Chair<br /><a href="mailto:noah.molotch@colorado.edu" target="_blank" r
 el="noopener noreferrer" data-auth="NotApplicable"></a><span id="cloake5b4d
 7c75371dabf44630e09668d9e59">This email address is being protected from spa
 mbots. You need JavaScript enabled to view it.</span><script type='text/jav
 ascript'>
				document.getElementById('cloake5b4d7c75371dabf44630e09668d9e5
 9').innerHTML = '';
				var prefix = '&#109;a' + 'i&#108;' + '&#116;o';
			
 	var path = 'hr' + 'ef' + '=';
				var addye5b4d7c75371dabf44630e09668d9e59
  = 'n&#111;&#97;h.m&#111;l&#111;tch' + '&#64;';
				addye5b4d7c75371dabf446
 30e09668d9e59 = addye5b4d7c75371dabf44630e09668d9e59 + 'c&#111;l&#111;r&#97
 ;d&#111;' + '&#46;' + '&#101;d&#117;';
				var addy_texte5b4d7c75371dabf446
 30e09668d9e59 = 'n&#111;&#97;h.m&#111;l&#111;tch' + '&#64;' + 'c&#111;l&#11
 1;r&#97;d&#111;' + '&#46;' + '&#101;d&#117;';document.getElementById('cloak
 e5b4d7c75371dabf44630e09668d9e59').innerHTML += '<a ' + path + '\'' + prefi
 x + ':' + addye5b4d7c75371dabf44630e09668d9e59 + '\'>'+addy_texte5b4d7c7537
 1dabf44630e09668d9e59+'<\/a>';
		</script>&nbsp; &nbsp; &nbsp; &nbsp; &nbsp
 ; &nbsp; &nbsp; &nbsp; &nbsp; &nbsp;<a href="mailto:lucas.zukiewicz@usda.go
 v" target="_blank" rel="noopener noreferrer" data-auth="NotApplicable"></a>
 <span id="cloak0b2b9ec0bb75cd3ab179982f1e73a23e">This email address is bein
 g protected from spambots. You need JavaScript enabled to view it.</span><s
 cript type='text/javascript'>
				document.getElementById('cloak0b2b9ec0bb7
 5cd3ab179982f1e73a23e').innerHTML = '';
				var prefix = '&#109;a' + 'i&#10
 8;' + '&#116;o';
				var path = 'hr' + 'ef' + '=';
				var addy0b2b9ec0bb75
 cd3ab179982f1e73a23e = 'l&#117;c&#97;s.z&#117;k&#105;&#101;w&#105;cz' + '&#
 64;';
				addy0b2b9ec0bb75cd3ab179982f1e73a23e = addy0b2b9ec0bb75cd3ab17998
 2f1e73a23e + '&#117;sd&#97;' + '&#46;' + 'g&#111;v';
				var addy_text0b2b9
 ec0bb75cd3ab179982f1e73a23e = 'l&#117;c&#97;s.z&#117;k&#105;&#101;w&#105;cz
 ' + '&#64;' + '&#117;sd&#97;' + '&#46;' + 'g&#111;v';document.getElementByI
 d('cloak0b2b9ec0bb75cd3ab179982f1e73a23e').innerHTML += '<a ' + path + '\''
  + prefix + ':' + addy0b2b9ec0bb75cd3ab179982f1e73a23e + '\'>'+addy_text0b2
 b9ec0bb75cd3ab179982f1e73a23e+'<\/a>';
		</script><br />&nbsp;</p>
DTSTAMP:20260422T154918Z
DTSTART;TZID=UTC;VALUE=DATE:20210412
DTEND;TZID=UTC;VALUE=DATE:20210416
SEQUENCE:0
TRANSP:OPAQUE
END:VEVENT
END:VCALENDAR