BEGIN:VCALENDAR
VERSION:2.0
PRODID:-//jEvents 2.0 for Joomla//EN
CALSCALE:GREGORIAN
METHOD:PUBLISH
BEGIN:VEVENT
UID:4432a4ee2305b6abd8446d95de777e9b
CATEGORIES:Polar Online Events
CREATED:20210119T114208
SUMMARY:Arctic Research Virtual Speed Networking Event
LOCATION:Online
DESCRIPTION:Arctic Research Virtual Speed Networking Event\n Event Date: Friday, 5 Febr
 uary\n Event Time: 9-10:30am AK/1-2:30pm ET\n Event Location: Online\n Host
 ed by IARPC, ARCUS, &amp; UCIrvine\n \n To register, go to: \n  (https://ww
 w.arcus.org/meetings/2021/feb-speed-networking)<a href="https://www.arcus.o
 rg/meetings/2021/feb-speed-networking">https://www.arcus.org/meetings/2021/
 feb-speed-networking</a> \n \n Join IARPC Collaborations, the Arctic Resear
 ch Consortium of the U.S. (ARCUS), and UCIrvine for a virtual Arctic resear
 ch speed networking event on Friday, 5 February at 9am AKT / 1pm ET. Over t
 he course of 1.5 hours, researchers will be split into a series of small gr
 oups to rapidly get to know one another and brainstorm future collaboration
 s. Groups will be organized across disciplines, with a particular emphasis 
 on grouping social scientists and natural scientists together. \n \n The Ar
 ctic Research Virtual Speed Networking event is the first activity in serie
 s designed to provide participants with the opportunity to: \n\n - Network 
 with potential project partners\n - Workshop interdisciplinary research ide
 as\n - Meet with Arctic research funders To register for the speed networki
 ng event, go to:  (https://www.arcus.org/meetings/2021/feb-speed-networking
 )<a href="https://www.arcus.org/meetings/2021/feb-speed-networking">https:/
 /www.arcus.org/meetings/2021/feb-speed-networking</a>\n \n For event series
  information, contact Brit Myers at  (mailto:brit@arcus.org)This email addr
 ess is being protected from spambots. You need JavaScript enabled to view i
 t.
				document.getElementById('cloaka5abfc7ef6ecb38d9f8ae5433a23dbc0').inn
 erHTML = '';
				var prefix = '&#109;a' + 'i&#108;' + '&#116;o';
				var pa
 th = 'hr' + 'ef' + '=';
				var addya5abfc7ef6ecb38d9f8ae5433a23dbc0 = 'br&
 #105;t' + '&#64;';
				addya5abfc7ef6ecb38d9f8ae5433a23dbc0 = addya5abfc7ef
 6ecb38d9f8ae5433a23dbc0 + '&#97;rc&#117;s' + '&#46;' + '&#111;rg';
				var 
 addy_texta5abfc7ef6ecb38d9f8ae5433a23dbc0 = 'br&#105;t' + '&#64;' + '&#97;r
 c&#117;s' + '&#46;' + '&#111;rg';document.getElementById('cloaka5abfc7ef6ec
 b38d9f8ae5433a23dbc0').innerHTML += '<a ' + path + '\'' + prefix + ':' + ad
 dya5abfc7ef6ecb38d9f8ae5433a23dbc0 + '\'>'+addy_texta5abfc7ef6ecb38d9f8ae54
 33a23dbc0+'';
		  \n \n Learn more about IARPC Collaborations at: <a href="
 http://www.iarpccollaborations.org">www.iarpccollaborations.org</a>\n Learn
  more about ARCUS at: www.arcus.org (http://www.arcus.org)\n Learn more abo
 ut UCIrvine at: <a href="https://www.socsci.uci.edu/"></a>https://www.socsc
 i.uci.edu/\n
X-ALT-DESC;FMTTYPE=text/html:<p>Arctic Research Virtual Speed Networking Event<br /> Event Date: Friday,
  5 February<br /> Event Time: 9-10:30am AK/1-2:30pm ET<br /> Event Location
 : Online<br /> Hosted by IARPC, ARCUS, &amp; UCIrvine<br /> <br /> To regis
 ter, go to:&nbsp;<br /> <a href="https://www.arcus.org/meetings/2021/feb-sp
 eed-networking"></a><a href="https://www.arcus.org/meetings/2021/feb-speed-
 networking">https://www.arcus.org/meetings/2021/feb-speed-networking</a>&nb
 sp;<br /> <br /> Join IARPC Collaborations, the Arctic Research Consortium 
 of the U.S. (ARCUS), and UCIrvine for a virtual Arctic research speed&nbsp;
 networking event on&nbsp;Friday, 5 February at 9am AKT / 1pm ET. Over the c
 ourse of 1.5 hours, researchers will be split into a&nbsp;series of small g
 roups to rapidly get to know one another and brainstorm future collaboratio
 ns. Groups will be organized across&nbsp;disciplines, with a particular emp
 hasis on grouping social scientists and natural scientists together.&nbsp;<
 br /> <br /> The Arctic Research Virtual Speed Networking event is the firs
 t activity in series designed to provide participants with the&nbsp;opportu
 nity to:&nbsp;</p><ul><li>Network with potential project partners</li><li>W
 orkshop interdisciplinary research ideas</li><li>Meet with Arctic research 
 funders&nbsp;</li></ul><p>To register for the speed networking event, go to
 :&nbsp;<a href="https://www.arcus.org/meetings/2021/feb-speed-networking"><
 /a><a href="https://www.arcus.org/meetings/2021/feb-speed-networking">https
 ://www.arcus.org/meetings/2021/feb-speed-networking</a><br /> <br /> For ev
 ent series information, contact Brit Myers at&nbsp;<a href="mailto:brit@arc
 us.org"></a><span id="cloaka5abfc7ef6ecb38d9f8ae5433a23dbc0">This email add
 ress is being protected from spambots. You need JavaScript enabled to view 
 it.</span><script type='text/javascript'>
				document.getElementById('cloa
 ka5abfc7ef6ecb38d9f8ae5433a23dbc0').innerHTML = '';
				var prefix = '&#109
 ;a' + 'i&#108;' + '&#116;o';
				var path = 'hr' + 'ef' + '=';
				var addy
 a5abfc7ef6ecb38d9f8ae5433a23dbc0 = 'br&#105;t' + '&#64;';
				addya5abfc7ef
 6ecb38d9f8ae5433a23dbc0 = addya5abfc7ef6ecb38d9f8ae5433a23dbc0 + '&#97;rc&#
 117;s' + '&#46;' + '&#111;rg';
				var addy_texta5abfc7ef6ecb38d9f8ae5433a2
 3dbc0 = 'br&#105;t' + '&#64;' + '&#97;rc&#117;s' + '&#46;' + '&#111;rg';doc
 ument.getElementById('cloaka5abfc7ef6ecb38d9f8ae5433a23dbc0').innerHTML += 
 '<a ' + path + '\'' + prefix + ':' + addya5abfc7ef6ecb38d9f8ae5433a23dbc0 +
  '\'>'+addy_texta5abfc7ef6ecb38d9f8ae5433a23dbc0+'<\/a>';
		</script>&nbsp;
 &nbsp;<br /> <br /> Learn more about IARPC Collaborations at:&nbsp;<a href=
 "http://www.iarpccollaborations.org">www.iarpccollaborations.org</a><br /> 
 Learn more about ARCUS at:&nbsp;<a href="http://www.arcus.org">www.arcus.or
 g</a><br /> Learn more about UCIrvine at:&nbsp;<a href="https://www.socsci.
 uci.edu/"></a><a href="https://www.socsci.uci.edu/">https://www.socsci.uci.
 edu/</a></p>
DTSTAMP:20260423T035806Z
DTSTART;TZID=UTC;VALUE=DATE:20210205
DTEND;TZID=UTC;VALUE=DATE:20210206
SEQUENCE:0
TRANSP:OPAQUE
END:VEVENT
END:VCALENDAR