BEGIN:VCALENDAR
VERSION:2.0
PRODID:-//jEvents 2.0 for Joomla//EN
CALSCALE:GREGORIAN
METHOD:PUBLISH
BEGIN:VEVENT
UID:317b492af8f67c91a6dc418e1be0998d
CATEGORIES:Polar Conferences, Meetings and Events
CREATED:20161028T120633
SUMMARY:Call for Registration: 31st Wakefield Fisheries Symposium
LOCATION:Anchorage\, Alaska\, USA
DESCRIPTION:Call for Meeting Registration\n31st Wakefield Fisheries Symposium: Impacts 
 of a Changing Environment on the Dynamics of High-latitude Fish and Fisheri
 es\n9-11 May 2017, Anchorage, Alaska\n \nThis symposium, titled "Impacts of
  a Changing Environment on the Dynamics of High-latitude Fish and Fisheries
 " will examine the impacts of the environment, especially climate change an
 d variability, on the dynamics of Arctic and subArctic species of commercia
 l, subsistence, and ecological importance. The symposium will focus on the 
 effects of warming, loss of sea ice, ocean acidification, and oceanographic
  variability on the distribution, phenology, life history, population dynam
 ics, and interactions of these species and how a better understanding of th
 ese effects can inform the assessment and management of fish and invertebra
 te populations in a changing ocean for the benefit of affected communities.
 \nAlaska Sea Grant will publish a peer-reviewed proceedings book, including
  full papers based on oral and poster presentations, soon after the symposi
 um. The publication will be  available electronically with the possibility 
 of a small number in print.\nEarly registration deadline: Monday, 10 April 
 2017\nRegistration deadline: 9 May 2017\nTo register for the meeting, go to
 : https://seagrant.uaf.edu/events/2017/wakefield-fish-dynamics/\nFor questi
 ons, contact:\nSue Keller\nEmail: This email address is being protected fro
 m spambots. You need JavaScript enabled to view it.
				document.getElement
 ById('cloakdf81d6da6ce98047c917a7a089204d62').innerHTML = '';
				var prefi
 x = '&#109;a' + 'i&#108;' + '&#116;o';
				var path = 'hr' + 'ef' + '=';
		
 		var addydf81d6da6ce98047c917a7a089204d62 = 's&#117;&#101;.k&#101;ll&#101;
 r' + '&#64;';
				addydf81d6da6ce98047c917a7a089204d62 = addydf81d6da6ce980
 47c917a7a089204d62 + '&#97;l&#97;sk&#97;' + '&#46;' + '&#101;d&#117;';
				
 var addy_textdf81d6da6ce98047c917a7a089204d62 = 's&#117;&#101;.k&#101;ll&#1
 01;r' + '&#64;' + '&#97;l&#97;sk&#97;' + '&#46;' + '&#101;d&#117;';document
 .getElementById('cloakdf81d6da6ce98047c917a7a089204d62').innerHTML += '<a '
  + path + '\'' + prefix + ':' + addydf81d6da6ce98047c917a7a089204d62 + '\'>
 '+addy_textdf81d6da6ce98047c917a7a089204d62+'';
		 \nPhone: 907-474-6703\n
X-ALT-DESC;FMTTYPE=text/html:<p style="text-align: center;"><strong>Call for Meeting Registration</stron
 g><br /><strong>31st Wakefield Fisheries Symposium: Impacts of a Changing E
 nvironment on the Dynamics of High-latitude Fish and Fisheries</strong><br 
 /><strong>9-11 May 2017, <strong>Anchorage, Alaska</strong></strong></p><p>
  </p><p>This symposium, titled "Impacts of a Changing Environment on the Dy
 namics of High-latitude Fish and Fisheries" will examine the impacts of the
  environment, especially climate change and variability, on the dynamics of
  Arctic and subArctic species of commercial, subsistence, and ecological im
 portance. The symposium will focus on the effects of warming, loss of sea i
 ce, ocean acidification, and oceanographic variability on the distribution,
  phenology, life history, population dynamics, and interactions of these sp
 ecies and how a better understanding of these effects can inform the assess
 ment and management of fish and invertebrate populations in a changing ocea
 n for the benefit of affected communities.</p><p>Alaska Sea Grant will publ
 ish a peer-reviewed proceedings book, including full papers based on oral a
 nd poster presentations, soon after the symposium. The publication will be 
  available electronically with the possibility of a small number in print.<
 /p><p><strong>Early registration deadline: Monday, 10 April 2017</strong></
 p><p>Registration deadline: 9 May 2017</p><p>To register for the meeting, g
 o to: <a href="https://seagrant.uaf.edu/events/2017/wakefield-fish-dynamics
 /">https://seagrant.uaf.edu/events/2017/wakefield-fish-dynamics/</a></p><p>
 For questions, contact:<br />Sue Keller<br />Email: <span id="cloakdf81d6da
 6ce98047c917a7a089204d62">This email address is being protected from spambo
 ts. You need JavaScript enabled to view it.</span><script type='text/javasc
 ript'>
				document.getElementById('cloakdf81d6da6ce98047c917a7a089204d62')
 .innerHTML = '';
				var prefix = '&#109;a' + 'i&#108;' + '&#116;o';
				va
 r path = 'hr' + 'ef' + '=';
				var addydf81d6da6ce98047c917a7a089204d62 = 
 's&#117;&#101;.k&#101;ll&#101;r' + '&#64;';
				addydf81d6da6ce98047c917a7a
 089204d62 = addydf81d6da6ce98047c917a7a089204d62 + '&#97;l&#97;sk&#97;' + '
 &#46;' + '&#101;d&#117;';
				var addy_textdf81d6da6ce98047c917a7a089204d62
  = 's&#117;&#101;.k&#101;ll&#101;r' + '&#64;' + '&#97;l&#97;sk&#97;' + '&#4
 6;' + '&#101;d&#117;';document.getElementById('cloakdf81d6da6ce98047c917a7a
 089204d62').innerHTML += '<a ' + path + '\'' + prefix + ':' + addydf81d6da6
 ce98047c917a7a089204d62 + '\'>'+addy_textdf81d6da6ce98047c917a7a089204d62+'
 <\/a>';
		</script> <br />Phone: 907-474-6703</p>
CONTACT:This email address is being protected from spambots. You need JavaScript enabled to view it.
				document.getElementById('cloak0135d28d9df8fa575b29a507945a9c27').innerHTML = '';
				var prefix = '&#109;a' + 'i&#108;' + '&#116;o';
				var path = 'hr' + 'ef' + '=';
				var addy0135d28d9df8fa575b29a507945a9c27 = 's&#117;&#101;.k&#101;ll&#101;r' + '&#64;';
				addy0135d28d9df8fa575b29a507945a9c27 = addy0135d28d9df8fa575b29a507945a9c27 + '&#97;l&#97;sk&#97;' + '&#46;' + '&#101;d&#117;';
				var addy_text0135d28d9df8fa575b29a507945a9c27 = 's&#117;&#101;.k&#101;ll&#101;r' + '&#64;' + '&#97;l&#97;sk&#97;' + '&#46;' + '&#101;d&#117;';document.getElementById('cloak0135d28d9df8fa575b29a507945a9c27').innerHTML += '<a ' + path + '\'' + prefix + ':' + addy0135d28d9df8fa575b29a507945a9c27 + '\'>'+addy_text0135d28d9df8fa575b29a507945a9c27+'';
		
DTSTAMP:20260424T023232Z
DTSTART;TZID=UTC;VALUE=DATE:20170509
DTEND;TZID=UTC;VALUE=DATE:20170512
SEQUENCE:0
TRANSP:OPAQUE
END:VEVENT
END:VCALENDAR