BEGIN:VCALENDAR
VERSION:2.0
PRODID:-//jEvents 2.0 for Joomla//EN
CALSCALE:GREGORIAN
METHOD:PUBLISH
BEGIN:VEVENT
UID:84e3aff1762d0caa0d5cec6278c5b53c
CATEGORIES:Polar Online Events
CREATED:20210113T090133
SUMMARY:Research in Europe: develop your scientific career
DESCRIPTION:Research in Europe: Under the slogan "Research in Europe: develop your scie
 ntific career", the European Liaison Office of the German Research Organisa
 tions (KoWi), together with LMU and TUM, will hold an online information ev
 ent on Tuesday, 09th February, 2021, from 9 a.m. to 5:30 p.m. The event pro
 vides an overview on German and European funding opportunities and is targe
 ted to doctoral students and postdoctoral researchers who aim to pursue a c
 areer either in research or outside academia. Places are limited, the regis
 tration is open now.\nMore information can be found here:\n\n - Researchers
  having access to the LMU Service Portal:  (https://www.serviceportal.verwa
 ltung.uni-muenchen.de/services/forschungsservices/_news/research_in_europe/
 index.html)<a href="https://www.serviceportal.verwaltung.uni-muenchen.de/se
 rvices/forschungsservices/_news/research_in_europe/index.html">https://www.
 serviceportal.verwaltung.uni-muenchen.de/services/forschungsservices/_news/
 research_in_europe/index.html</a>\n - Researchers not having access to the 
 LMU Service Portal (KUM or outside LMU ):  (https://www.uni-muenchen.de/for
 schung/service/wissenschaftler_extern/veranstaltungen/research_in_europe.ht
 ml)<a href="https://www.uni-muenchen.de/forschung/service/wissenschaftler_e
 xtern/veranstaltungen/research_in_europe.html">https://www.uni-muenchen.de/
 forschung/service/wissenschaftler_extern/veranstaltungen/research_in_europe
 .html</a> \n
X-ALT-DESC;FMTTYPE=text/html:<p><strong><em>Research in Europe</em></strong>: Under the slogan "<strong>
 <em>Research in Europe: develop your scientific career</em></strong>", the 
 European Liaison Office of the German Research Organisations (KoWi), togeth
 er with LMU and TUM, will hold an online information event on <strong>Tuesd
 ay, 09<sup>th</sup> February, 2021, </strong>from 9 a.m. to 5:30 p.m. The e
 vent provides an overview on German and European funding opportunities and 
 is targeted to <strong>doctoral students</strong> and <strong>postdoctoral 
 researchers</strong> who aim to pursue a career either in research or outsi
 de academia. Places are limited, the registration is open now.</p><p>More i
 nformation can be found here:</p><ul><li>Researchers having access to the L
 MU Service Portal: <a href="https://www.serviceportal.verwaltung.uni-muench
 en.de/services/forschungsservices/_news/research_in_europe/index.html"></a>
 <a href="https://www.serviceportal.verwaltung.uni-muenchen.de/services/fors
 chungsservices/_news/research_in_europe/index.html">https://www.serviceport
 al.verwaltung.uni-muenchen.de/services/forschungsservices/_news/research_in
 _europe/index.html</a></li><li>Researchers not having access to the LMU Ser
 vice Portal (KUM or outside LMU ): <a href="https://www.uni-muenchen.de/for
 schung/service/wissenschaftler_extern/veranstaltungen/research_in_europe.ht
 ml"></a><a href="https://www.uni-muenchen.de/forschung/service/wissenschaft
 ler_extern/veranstaltungen/research_in_europe.html">https://www.uni-muenche
 n.de/forschung/service/wissenschaftler_extern/veranstaltungen/research_in_e
 urope.html</a></li></ul><p>&nbsp;</p>
DTSTAMP:20260425T214656Z
DTSTART;TZID=UTC:20210209T080000
DTEND;TZID=UTC:20210209T163000
SEQUENCE:0
TRANSP:OPAQUE
END:VEVENT
END:VCALENDAR