BEGIN:VCALENDAR
VERSION:2.0
PRODID:-//jEvents 2.0 for Joomla//EN
CALSCALE:GREGORIAN
METHOD:PUBLISH
BEGIN:VEVENT
UID:6f0e0a6d2cbca6e3cb88418fd662291a
CATEGORIES:APECS Events
CREATED:20201218T093843
SUMMARY: Antarctic Science Bursary: tips for potential applicants - 2021 and Q+A session
LOCATION:Online
DESCRIPTION:In coordination with the Association of Polar Early Career Scientists (APEC
 S) (https://www.apecs.is/), Antarctic Science Ltd. is running a webinar to 
 help potential applicants of 2021 Antarctic Science International Bursary. 
 This bursary runs every year and is for up to £6000 to support PhD or early
  career researchers to extend the scope of an existing research project. Mo
 re details here: <a href="http://www.antarcticsciencebursary.org.uk/."></a>
 http://www.antarcticsciencebursary.org.uk/. A great opportunity to get top-
 up funding for that exciting idea of yours!\nThe webinar will explain more 
 about the bursary and advice on how to submit a successful application. Pre
 vious recipients of this bursary will share their experiences on the useful
 ness of this bursary in their research careers in Antarctic science. This w
 ill be followed by a Q+A session, where you can ask any bursary related que
 stion to our panel of past award recipients and members of the Antarctic Sc
 ience bursary board.\nThe webinar will be at 3:00 pm (UTC) and again at 8:0
 0 pm (UTC) on Friday, January 29th, please register here:\n· 3:00 pm slot: 
 <a href="https://us02web.zoom.us/webinar/register/WN_kNl_d1a1TrSPXZJUtoPLWQ
 "></a>https://us02web.zoom.us/webinar/register/WN_kNl_d1a1TrSPXZJUtoPLWQ\n·
  8:00 pm slot: <a href="https://us02web.zoom.us/webinar/register/WN_CYZFyQn
 WTtSwnGKQT-v0NQ"></a>https://us02web.zoom.us/webinar/register/WN_CYZFyQnWTt
 SwnGKQT-v0NQ\n
X-ALT-DESC;FMTTYPE=text/html:<p>In coordination with the <a href="https://www.apecs.is/" target="_blank"
  rel="noopener">Association of Polar Early Career Scientists (APECS)</a>, A
 ntarctic Science Ltd. is running a webinar to help potential applicants of 
 2021 Antarctic Science International Bursary. This bursary runs every year 
 and is for up to £6000 to support PhD or early career researchers to extend
  the scope of an existing research project. More details here: <a href="htt
 p://www.antarcticsciencebursary.org.uk/."></a><a href="http://www.antarctic
 sciencebursary.org.uk/.">http://www.antarcticsciencebursary.org.uk/.</a> A 
 great opportunity to get top-up funding for that exciting idea of yours!</p
 ><p>The webinar will explain more about the bursary and advice on how to su
 bmit a successful application. Previous recipients of this bursary will sha
 re their experiences on the usefulness of this bursary in their research ca
 reers in Antarctic science. This will be followed by a Q+A session, where y
 ou can ask any bursary related question to our panel of past award recipien
 ts and members of the Antarctic Science bursary board.</p><p>The webinar wi
 ll be at <strong>3:00 pm (UTC) and again at 8:00 pm (UTC) on Friday, Januar
 y 29th</strong>, please register here:</p><p>· 3:00 pm slot: <a href="https
 ://us02web.zoom.us/webinar/register/WN_kNl_d1a1TrSPXZJUtoPLWQ"></a><a href=
 "https://us02web.zoom.us/webinar/register/WN_kNl_d1a1TrSPXZJUtoPLWQ">https:
 //us02web.zoom.us/webinar/register/WN_kNl_d1a1TrSPXZJUtoPLWQ</a></p><p>· 8:
 00 pm slot: <a href="https://us02web.zoom.us/webinar/register/WN_CYZFyQnWTt
 SwnGKQT-v0NQ"></a><a href="https://us02web.zoom.us/webinar/register/WN_CYZF
 yQnWTtSwnGKQT-v0NQ">https://us02web.zoom.us/webinar/register/WN_CYZFyQnWTtS
 wnGKQT-v0NQ</a></p>
X-EXTRAINFO:UTC
DTSTAMP:20260425T214638Z
DTSTART;TZID=UTC;VALUE=DATE:20210129
DTEND;TZID=UTC;VALUE=DATE:20210130
SEQUENCE:0
TRANSP:OPAQUE
END:VEVENT
END:VCALENDAR