BEGIN:VCALENDAR
VERSION:2.0
PRODID:-//jEvents 2.0 for Joomla//EN
CALSCALE:GREGORIAN
METHOD:PUBLISH
BEGIN:VEVENT
UID:97efb6ddc93f14eb4bb4a7ca1a4824cd
CATEGORIES:Polar Online Events
CREATED:20201125T075712
SUMMARY:Navigating the NSF System workshop
LOCATION:Online
DESCRIPTION:December 2, 2020, 2:30 PM to 4:00 PM \nContact: Geosciences Earth Sciences 
 Communications Team,  (mailto:ear-communication@nsf.gov)This email address 
 is being protected from spambots. You need JavaScript enabled to view it.
	
 			document.getElementById('cloakc5ac2b3d4c1bd4cb1a1896fbace23d4f').innerHT
 ML = '';
				var prefix = '&#109;a' + 'i&#108;' + '&#116;o';
				var path =
  'hr' + 'ef' + '=';
				var addyc5ac2b3d4c1bd4cb1a1896fbace23d4f = '&#101;&
 #97;r-c&#111;mm&#117;n&#105;c&#97;t&#105;&#111;n' + '&#64;';
				addyc5ac2b
 3d4c1bd4cb1a1896fbace23d4f = addyc5ac2b3d4c1bd4cb1a1896fbace23d4f + 'nsf' +
  '&#46;' + 'g&#111;v';
				var addy_textc5ac2b3d4c1bd4cb1a1896fbace23d4f = 
 '&#101;&#97;r-c&#111;mm&#117;n&#105;c&#97;t&#105;&#111;n' + '&#64;' + 'nsf'
  + '&#46;' + 'g&#111;v';document.getElementById('cloakc5ac2b3d4c1bd4cb1a189
 6fbace23d4f').innerHTML += '<a ' + path + '\'' + prefix + ':' + addyc5ac2b3
 d4c1bd4cb1a1896fbace23d4f + '\'>'+addy_textc5ac2b3d4c1bd4cb1a1896fbace23d4f
 +'';
		 \nRegister at <a href="https://nsf.zoomgov.com/webinar/register/WN_
 cSO1ybkkQtGUwIufBo--Tg"></a>https://nsf.zoomgov.com/webinar/register/WN_cSO
 1ybkkQtGUwIufBo--Tg \nNormally presented as a workshop at AGU, Navigating t
 he NSF System is a good opportunity for first-time proposers and early care
 er scientists to gain insight into the ins and outs of the NSF grant propos
 al process. The webinar consists of a presentation and a live Q&amp;A sessi
 on with Directorate for Geosciences Program Officers. Participants must reg
 ister in advance.\n
X-ALT-DESC;FMTTYPE=text/html:<p><strong>December 2, 2020, 2:30 PM to 4:00 PM&nbsp;</strong></p><p>Contac
 t: Geosciences Earth Sciences Communications Team,&nbsp;<a href="mailto:ear
 -communication@nsf.gov"></a><span id="cloakc5ac2b3d4c1bd4cb1a1896fbace23d4f
 ">This email address is being protected from spambots. You need JavaScript 
 enabled to view it.</span><script type='text/javascript'>
				document.getE
 lementById('cloakc5ac2b3d4c1bd4cb1a1896fbace23d4f').innerHTML = '';
				var
  prefix = '&#109;a' + 'i&#108;' + '&#116;o';
				var path = 'hr' + 'ef' + '
 =';
				var addyc5ac2b3d4c1bd4cb1a1896fbace23d4f = '&#101;&#97;r-c&#111;mm&
 #117;n&#105;c&#97;t&#105;&#111;n' + '&#64;';
				addyc5ac2b3d4c1bd4cb1a1896
 fbace23d4f = addyc5ac2b3d4c1bd4cb1a1896fbace23d4f + 'nsf' + '&#46;' + 'g&#1
 11;v';
				var addy_textc5ac2b3d4c1bd4cb1a1896fbace23d4f = '&#101;&#97;r-c&
 #111;mm&#117;n&#105;c&#97;t&#105;&#111;n' + '&#64;' + 'nsf' + '&#46;' + 'g&
 #111;v';document.getElementById('cloakc5ac2b3d4c1bd4cb1a1896fbace23d4f').in
 nerHTML += '<a ' + path + '\'' + prefix + ':' + addyc5ac2b3d4c1bd4cb1a1896f
 bace23d4f + '\'>'+addy_textc5ac2b3d4c1bd4cb1a1896fbace23d4f+'<\/a>';
		</sc
 ript>&nbsp;</p><p><strong>Register</strong> at&nbsp;<a href="https://nsf.zo
 omgov.com/webinar/register/WN_cSO1ybkkQtGUwIufBo--Tg"></a><a href="https://
 nsf.zoomgov.com/webinar/register/WN_cSO1ybkkQtGUwIufBo--Tg">https://nsf.zoo
 mgov.com/webinar/register/WN_cSO1ybkkQtGUwIufBo--Tg</a>&nbsp;</p><p>Normall
 y presented as a workshop at AGU, Navigating the NSF System is a good oppor
 tunity for first-time proposers and early career scientists to gain insight
  into the ins and outs of the NSF grant proposal process. The webinar consi
 sts of a presentation and a live Q&amp;A session with Directorate for Geosc
 iences Program Officers. Participants must register in advance.</p>
DTSTAMP:20260425T181339Z
DTSTART;TZID=UTC:20201202T143000
DTEND;TZID=UTC:20201202T160000
SEQUENCE:0
TRANSP:OPAQUE
END:VEVENT
END:VCALENDAR