BEGIN:VCALENDAR
VERSION:2.0
PRODID:-//jEvents 2.0 for Joomla//EN
CALSCALE:GREGORIAN
METHOD:PUBLISH
BEGIN:VEVENT
UID:2a2eda7ef6112015f7143b194676af8d
CATEGORIES:APECS Events
CREATED:20201120T164438
SUMMARY:Antarctica Day 2020
LOCATION:Online
DESCRIPTION:The international polar community celebrates Antarctica Day on the 1st of D
 ecember to commemorate the 61st anniversary of the Antarctic Treaty. During
  this year, the APECS Antarctica Day Project Group (PG) has planned a serie
 s of activities for all our members and national committees to raise awaren
 ess of the importance of Antarctica in a fast changing world.\nWe enthusias
 tically encourage our early career researchers (ECR) to both join our activ
 ities and to communicate with us if you are planning something special to c
 elebrate Antarctica with your community. We want to promote your activities
 , too! Thanks to the wide collaborations between countries, we could expand
  and enrich our events and celebrate the spirit of international peace and 
 scientific cooperation that signified the signing of the Antarctic Treaty i
 n 1959.\nMore information can be found here: https://www.apecs.is/events/up
 coming-event-highlights/antarctica-day-2020.html (events/upcoming-event-hig
 hlights/antarctica-day-2020.html)\n
X-ALT-DESC;FMTTYPE=text/html:<p>The international polar community celebrates Antarctica Day on the 1st o
 f December to commemorate the 61st anniversary of the Antarctic Treaty. Dur
 ing this year, the APECS Antarctica Day Project Group (PG) has planned a se
 ries of activities for all our members and national committees to raise awa
 reness of the importance of Antarctica in a fast changing world.</p><p>We e
 nthusiastically encourage our early career researchers (ECR) to both join o
 ur activities and to communicate with us if you are planning something spec
 ial to celebrate Antarctica with your community. We want to promote your ac
 tivities, too! Thanks to the wide collaborations between countries, we coul
 d expand and enrich our events and celebrate the spirit of international pe
 ace and scientific cooperation that signified the signing of the Antarctic 
 Treaty in 1959.</p><p>More information can be found here: <a href="events/u
 pcoming-event-highlights/antarctica-day-2020.html">https://www.apecs.is/eve
 nts/upcoming-event-highlights/antarctica-day-2020.html</a></p>
DTSTAMP:20260425T201215Z
DTSTART;TZID=UTC;VALUE=DATE:20201201
DTEND;TZID=UTC;VALUE=DATE:20201202
SEQUENCE:0
TRANSP:OPAQUE
END:VEVENT
END:VCALENDAR