BEGIN:VCALENDAR
VERSION:2.0
PRODID:-//jEvents 2.0 for Joomla//EN
CALSCALE:GREGORIAN
METHOD:PUBLISH
BEGIN:VEVENT
UID:729dae0ca14799ca54cf7421390a39fb
CATEGORIES:Polar Online Events
CREATED:20201111T190110
SUMMARY:VAWS: NWS Alaska Sea Ice Program Operations
DESCRIPTION:Mary-Beth Schreck, Sea Ice Program Leader, National Weather Service Alaska 
 Sea Ice Program\n Tuesday, 24 November 2020\n 11:00 a.m.-12:00 p.m. AST\nTh
 e Alaska Sea Ice Program (ASIP) is a unique program within the National Wea
 ther Service. The program has seen many changes over the years, including e
 volving from hand drawn sea ice analyses using a light box to GIS-based dig
 ital analyses. Mary-Beth will take a look at where the program started, whe
 re they are now and what they do, and where they hope to be in the future. 
 She will also look at some times when sea ice in Alaska waters has caused p
 roblems for both Alaska residents and others operating within Alaskan water
 s.\nFor more information and to register for this event, go to:\n NWS Alask
 a Sea Ice Program Operations webinar webpage webinar webpage (https://uaf-a
 ccap.org/event/vaws-november2020/)\n
X-ALT-DESC;FMTTYPE=text/html:<p>Mary-Beth Schreck, Sea Ice Program Leader, National Weather Service Alas
 ka Sea Ice Program<br /> Tuesday, 24 November 2020<br /> 11:00 a.m.-12:00 p
 .m. AST</p><p>The Alaska Sea Ice Program (ASIP) is a unique program within 
 the National Weather Service. The program has seen many changes over the ye
 ars, including evolving from hand drawn sea ice analyses using a light box 
 to GIS-based digital analyses. Mary-Beth will take a look at where the prog
 ram started, where they are now and what they do, and where they hope to be
  in the future. She will also look at some times when sea ice in Alaska wat
 ers has caused problems for both Alaska residents and others operating with
 in Alaskan waters.</p><p>For more information and to register for this even
 t, go to:<br /> <a href="https://uaf-accap.org/event/vaws-november2020/"><e
 m>NWS Alaska Sea Ice Program Operations webinar webpage</em> webinar webpag
 e</a></p>
DTSTAMP:20260425T181314Z
DTSTART;TZID=UTC;VALUE=DATE:20201124
DTEND;TZID=UTC;VALUE=DATE:20201125
SEQUENCE:0
TRANSP:OPAQUE
END:VEVENT
END:VCALENDAR